{"text_format":"3","workbook":"xlsx","n_sheets":3,"sheets":["Sheet1","table","about"],"not_rendered":{"images":25,"macros":1},"read":"whole","date_system":"1900"}

{"sheet":"Sheet1","index":0,"n_rows":28,"n_cols":16,"rows_kept":28}
["Hole Sizing Guide",{"$nulls":3},{"$f":"IF(AND(table!B2=1,table!B5=1,table!B6=2)=TRUE,\"ⓘ Sheet metal cannot have threaded hole\",\"\")","v":""},{"$nulls":9},"ⓘ","Pink cells indicate missing selection."]
["Demo version: No proprietary data; output values are random placeholders."]
[{"$nulls":4},{"$f":"IF(table!F2<>\"\",table!F2,\".xxx\")","v":".xxx"},null,"⌵","⌀",{"$f":"_xlfn.IFS(table!B7=1,\"N/A\",AND(table!F7<>\"\",table!B7<>1)=TRUE,table!F7,AND(table!F7=\"\",table!B7<>1)=TRUE,\".xxx\")","v":".xxx"},"×",{"$f":"IF(table!F8<>\"\",table!F8&\"°\",\".xxx\")","v":".xxx"},{"$nulls":4},"Please ensure macros are enabled."]
[{"$nulls":4},{"$f":"IF(table!F3<>\"\",table!F3,\".xxx\")","v":".xxx"},{"$nulls":3},{"$f":"IF(ISBLANK(table!F6)=FALSE,table!F6,\".xxx\")","v":""}]
[]
[{"$nulls":4},"⌖","⌀",{"$f":"IF(table!F5<>\"\",table!F5,\".xxx\")","v":".xxx"},"Ⓜ","X","X","X"]
[]
[]
["Fastener Size"]
[null,"Screws"]
[]
[]
[null,"Rivets"]
[]
[]
[]
[]
[{"$nulls":8},"Countersink"]
["Fit"]
[]
[]
[]
["Material"]
[]
[]
[]
[]
["Hole Type"]

{"sheet":"table","index":1,"n_rows":68,"n_cols":70,"rows_kept":68}
["VAR","VALUE","DESC",null,"OUT","VALUE","DESC",null,"Table 1","Random Placeholder Values for Engineering Standard",{"$nulls":8},"Table 4","Check nominalScrew value",{"$nulls":5},"Table 5","Check fit type",{"$nulls":5},"Table 6","Check Material Type",{"$nulls":5},"Table 7","Check Hole Type",{"$nulls":5},"Table 8","Check Csk",{"$nulls":5},"Table 9","Results",{"$nulls":5},"Table 10","Resulting Values"]
["fastenerType",1,"0 = N/A 1 = SCREW, 2 = BLD RIVET, 3 = SOLID RIVET",null,"holeLimMax",{"$f":"CONCATENATE(BP4,BP11,BP18,BP25,BP32,BP39,BP46,Y56,Y57,Y58,Y59,Y60,AA64,AA65,AA66,AA67,AA68)","v":""},null,null,"NominalScrew var value","NOMINAL SCREWS","DESC","SHEET METAL",null,"MACHINED",null,"VAC FORMED"]
["fitType",0,"0 = N/A, 1 = TIGHT FIT, 2 = STANDARD",null,"holeLimMin",{"$f":"CONCATENATE(BP5,BP12,BP19,BP26,BP33,BP40,BP47,Z56,Z57,Z58,Z59,Z60,AB64,AB65,AB66,AB67,AB68)","v":""},{"$nulls":5},"TIGHT FIT","STANDARD","TIGHT FIT","STANDARD","TIGHT FIT","STANDARD"]
["nominalScrew",0,"Indexed list of fastener sizes, see var name in Table 1, 0 = N/A",null,"modelToDia",{"$f":"CONCATENATE(BP6,BP13,BP20,BP27,BP34,BP41,BP48)","v":""},"n/a for rivets",null,1,".112(#4)","HOLE LIMIT MAX",0.024,0.032,0.011,0.075,0.017,0.023,null,{"$f":"AND(B2=1,B4=1)","v":false},{"$f":"AND(B2=1,B4=1)","v":false},{"$f":"AND(B2=1,B4=1)","v":false},{"$f":"AND(B2=1,B4=1)","v":false},{"$f":"AND(B2=1,B4=1)","v":false},{"$f":"AND(B2=1,B4=1)","v":false},null,{"$f":"IF(B3=1,TRUE,FALSE)","v":false},{"$f":"IF(B3=2,TRUE,FALSE)","v":false},{"$f":"IF(B3=1,TRUE,FALSE)","v":false},{"$f":"IF(B3=2,TRUE,FALSE)","v":false},{"$f":"IF(B3=1,TRUE,FALSE)","v":false},{"$f":"IF(B3=2,TRUE,FALSE)","v":false},null,{"$f":"IF(B5=1,TRUE,FALSE)","v":false},{"$f":"IF(B5=1,TRUE,FALSE)","v":false},{"$f":"IF(B5=2,TRUE,FALSE)","v":false},{"$f":"IF(B5=2,TRUE,FALSE)","v":false},{"$f":"IF(B5=3,TRUE,FALSE)","v":false},{"$f":"IF(B5=3,TRUE,FALSE)","v":false},{"$nulls":15},{"$f":"AND(S4=TRUE,Z4=TRUE,AG4=TRUE)","v":false},{"$f":"AND(T4=TRUE,AA4=TRUE,AH4=TRUE)","v":false},false,false,false,false,null,{"$f":"IF(BB4=TRUE,L4)","v":false},{"$f":"IF(BC4=TRUE,M4)","v":false},false,false,false,false,null,{"$f":"IFERROR(INDEX(BI4:BN4,MATCH(TRUE,TRANSPOSE(BB4:BG4),0)),\"\")","v":""},null,{"$f":"CONCATENATE(BP7,BP4,BP7)","v":""}]
["materialType",0,"0 = N/A, 1 = SHEET METAL, 2 = MACHINED, 3 = VAC FORMED",null,"posTol",{"$f":"CONCATENATE(BP7,BP8,BP9,BP14,BP15,BP16,BP21,BP22,BP23,BP28,BP29,BP30,BP35,BP36,BP37,BP42,BP43,BP44,BP49,BP50,BP51,AA56,AA57,AA58,AA59,AA60,AC64,AC65,AC66,AC67,AC68)","v":""},{"$nulls":4},"HOLE LIMIT MIN",0.087,0.042,0.102,0.113,0.039,0.121,null,{"$f":"AND(B2=1,B4=1)","v":false},{"$f":"AND(B2=1,B4=1)","v":false},{"$f":"AND(B2=1,B4=1)","v":false},{"$f":"AND(B2=1,B4=1)","v":false},{"$f":"AND(B2=1,B4=1)","v":false},{"$f":"AND(B2=1,B4=1)","v":false},null,{"$f":"IF(B3=1,TRUE,FALSE)","v":false},{"$f":"IF(B3=2,TRUE,FALSE)","v":false},{"$f":"IF(B3=1,TRUE,FALSE)","v":false},{"$f":"IF(B3=2,TRUE,FALSE)","v":false},{"$f":"IF(B3=1,TRUE,FALSE)","v":false},{"$f":"IF(B3=2,TRUE,FALSE)","v":false},null,{"$f":"IF(B5=1,TRUE,FALSE)","v":false},{"$f":"IF(B5=1,TRUE,FALSE)","v":false},{"$f":"IF(B5=2,TRUE,FALSE)","v":false},{"$f":"IF(B5=2,TRUE,FALSE)","v":false},{"$f":"IF(B5=3,TRUE,FALSE)","v":false},{"$f":"IF(B5=3,TRUE,FALSE)","v":false},{"$nulls":15},{"$f":"AND(S5=TRUE,Z5=TRUE,AG5=TRUE)","v":false},{"$f":"AND(T5=TRUE,AA5=TRUE,AH5=TRUE)","v":false},{"$f":"AND(U5=TRUE,AB5=TRUE,AI5=TRUE)","v":false},{"$f":"AND(V5=TRUE,AC5=TRUE,AJ5=TRUE)","v":false},{"$f":"AND(W5=TRUE,AD5=TRUE,AK5=TRUE)","v":false},{"$f":"AND(X5=TRUE,AE5=TRUE,AL5=TRUE)","v":false},null,{"$f":"IF(BB5=TRUE,L5)","v":false},false,false,false,false,false,null,{"$f":"IFERROR(INDEX(BI5:BN5,MATCH(TRUE,TRANSPOSE(BB5:BG5),0)),\"\")","v":""}]
["holeType",0,"0 = N/A, 1 = FLOATING, 2 = FIXED THREADED, 3 = FIXED CLEARANCE",null,"cskDiaMin",{"$f":"CONCATENATE(AF64,AF65,AF66,AF67,AF68)","v":""},{"$nulls":4},"MODEL TO DIAMETER",0.083,0.018,0.065,0.027,0.11,0.024,null,{"$f":"AND(B2=1,B4=1)","v":false},{"$f":"AND(B2=1,B4=1)","v":false},{"$f":"AND(B2=1,B4=1)","v":false},{"$f":"AND(B2=1,B4=1)","v":false},{"$f":"AND(B2=1,B4=1)","v":false},{"$f":"AND(B2=1,B4=1)","v":false},null,{"$f":"IF(B3=1,TRUE,FALSE)","v":false},{"$f":"IF(B3=2,TRUE,FALSE)","v":false},{"$f":"IF(B3=1,TRUE,FALSE)","v":false},{"$f":"IF(B3=2,TRUE,FALSE)","v":false},{"$f":"IF(B3=1,TRUE,FALSE)","v":false},{"$f":"IF(B3=2,TRUE,FALSE)","v":false},null,{"$f":"IF(B5=1,TRUE,FALSE)","v":false},{"$f":"IF(B5=1,TRUE,FALSE)","v":false},{"$f":"IF(B5=2,TRUE,FALSE)","v":false},{"$f":"IF(B5=2,TRUE,FALSE)","v":false},{"$f":"IF(B5=3,TRUE,FALSE)","v":false},{"$f":"IF(B5=3,TRUE,FALSE)","v":false},{"$nulls":15},{"$f":"AND(S6=TRUE,Z6=TRUE,AG6=TRUE)","v":false},false,false,false,false,false,null,false,false,false,false,false,false,null,{"$f":"IFERROR(INDEX(BI6:BN6,MATCH(TRUE,TRANSPOSE(BB6:BG6),0)),\"\")","v":""}]
["cskType",0,"0 = N/A, 1 = NO CSK, 2 = 100 DEG, 3 = 120 DEG",null,"cskDiaMax",{"$f":"CONCATENATE(BP10,BP17,BP24,BP31,BP38,BP45,BP52,AB56,AB57,AB58,AB59,AB60,AC56,AC57,AC58,AC59,AC60,AE64,AE65,AE66,AE67,AE68)","v":""},"only for solid rivet holes",{"$nulls":3},"POS TOL FLOATING",0.019,0.063,0.095,0.09,0.115,0.008,null,{"$f":"AND(B2=1,B4=1)","v":false},{"$f":"AND(B2=1,B4=1)","v":false},{"$f":"AND(B2=1,B4=1)","v":false},{"$f":"AND(B2=1,B4=1)","v":false},{"$f":"AND(B2=1,B4=1)","v":false},{"$f":"AND(B2=1,B4=1)","v":false},null,{"$f":"IF(B3=1,TRUE,FALSE)","v":false},{"$f":"IF(B3=2,TRUE,FALSE)","v":false},{"$f":"IF(B3=1,TRUE,FALSE)","v":false},{"$f":"IF(B3=2,TRUE,FALSE)","v":false},{"$f":"IF(B3=1,TRUE,FALSE)","v":false},{"$f":"IF(B3=2,TRUE,FALSE)","v":false},null,{"$f":"IF(B5=1,TRUE,FALSE)","v":false},{"$f":"IF(B5=1,TRUE,FALSE)","v":false},{"$f":"IF(B5=2,TRUE,FALSE)","v":false},{"$f":"IF(B5=2,TRUE,FALSE)","v":false},{"$f":"IF(B5=3,TRUE,FALSE)","v":false},{"$f":"IF(B5=3,TRUE,FALSE)","v":false},null,{"$f":"IF(B6=1,TRUE,FALSE)","v":false},{"$f":"IF(B6=1,TRUE,FALSE)","v":false},{"$f":"IF(B6=1,TRUE,FALSE)","v":false},{"$f":"IF(B6=1,TRUE,FALSE)","v":false},{"$f":"IF(B6=1,TRUE,FALSE)","v":false},{"$f":"IF(B6=1,TRUE,FALSE)","v":false},{"$nulls":8},{"$f":"AND(S7=TRUE,Z7=TRUE,AG7=TRUE,AN7=TRUE)","v":false},{"$f":"AND(T7=TRUE,AA7=TRUE,AH7=TRUE,AO7=TRUE)","v":false},false,false,false,false,null,false,false,false,false,false,false,null,{"$f":"IFERROR(INDEX(BI7:BN7,MATCH(TRUE,TRANSPOSE(BB7:BG7),0)),\"\")","v":""}]
["rivetSize",0,"0 = N/A, 1  thru 5",null,"cskAng",{"$f":"_xlfn.IFS(B7=1,\"N/A\",B7=2,\"100\",B7=3,\"120\",B7=0,\"\")","v":""},{"$nulls":4},"POS TOL FIXED THD","N/A","N/A",0.071,0.048,0.055,0.103,null,{"$f":"AND(B2=1,B4=1)","v":false},{"$f":"AND(B2=1,B4=1)","v":false},{"$f":"AND(B2=1,B4=1)","v":false},{"$f":"AND(B2=1,B4=1)","v":false},{"$f":"AND(B2=1,B4=1)","v":false},{"$f":"AND(B2=1,B4=1)","v":false},null,{"$f":"IF(B3=1,TRUE,FALSE)","v":false},{"$f":"IF(B3=2,TRUE,FALSE)","v":false},{"$f":"IF(B3=1,TRUE,FALSE)","v":false},{"$f":"IF(B3=2,TRUE,FALSE)","v":false},{"$f":"IF(B3=1,TRUE,FALSE)","v":false},{"$f":"IF(B3=2,TRUE,FALSE)","v":false},null,{"$f":"IF(B5=1,TRUE,FALSE)","v":false},{"$f":"IF(B5=1,TRUE,FALSE)","v":false},{"$f":"IF(B5=2,TRUE,FALSE)","v":false},{"$f":"IF(B5=2,TRUE,FALSE)","v":false},{"$f":"IF(B5=3,TRUE,FALSE)","v":false},{"$f":"IF(B5=3,TRUE,FALSE)","v":false},null,{"$f":"IF(B6=2,TRUE,FALSE)","v":false},{"$f":"IF(B6=2,TRUE,FALSE)","v":false},{"$f":"IF(B6=2,TRUE,FALSE)","v":false},{"$f":"IF(B6=2,TRUE,FALSE)","v":false},{"$f":"IF(B6=2,TRUE,FALSE)","v":false},{"$f":"IF(B6=2,TRUE,FALSE)","v":false},{"$nulls":8},{"$f":"AND(S8=TRUE,Z8=TRUE,AG8=TRUE,AN8=TRUE)","v":false},{"$f":"AND(T8=TRUE,AA8=TRUE,AH8=TRUE,AO8=TRUE)","v":false},{"$f":"AND(U8=TRUE,AB8=TRUE,AI8=TRUE,AP8=TRUE)","v":false},{"$f":"AND(V8=TRUE,AC8=TRUE,AJ8=TRUE,AQ8=TRUE)","v":false},{"$f":"AND(W8=TRUE,AD8=TRUE,AK8=TRUE,AR8=TRUE)","v":false},{"$f":"AND(X8=TRUE,AE8=TRUE,AL8=TRUE,AS8=TRUE)","v":false},null,false,false,false,false,false,false,null,{"$f":"IFERROR(INDEX(BI8:BN8,MATCH(TRUE,TRANSPOSE(BB8:BG8),0)),\"\")","v":""}]
["rivType",0,"0 = N/A, 1 = BLD, 2 = SOLID, purely to track state of the buttons",null,"cskModelToDia",{"$f":"CONCATENATE(AG64,AG65,AG66,AG67,AG68)","v":""},{"$nulls":4},"POS TOL FIXED CLR",0.052,0.01,0.014,0.037,0.081,0.003,null,{"$f":"AND(B2=1,B4=1)","v":false},{"$f":"AND(B2=1,B4=1)","v":false},{"$f":"AND(B2=1,B4=1)","v":false},{"$f":"AND(B2=1,B4=1)","v":false},{"$f":"AND(B2=1,B4=1)","v":false},{"$f":"AND(B2=1,B4=1)","v":false},null,{"$f":"IF(B3=1,TRUE,FALSE)","v":false},{"$f":"IF(B3=2,TRUE,FALSE)","v":false},{"$f":"IF(B3=1,TRUE,FALSE)","v":false},{"$f":"IF(B3=2,TRUE,FALSE)","v":false},{"$f":"IF(B3=1,TRUE,FALSE)","v":false},{"$f":"IF(B3=2,TRUE,FALSE)","v":false},null,{"$f":"IF(B5=1,TRUE,FALSE)","v":false},{"$f":"IF(B5=1,TRUE,FALSE)","v":false},{"$f":"IF(B5=2,TRUE,FALSE)","v":false},{"$f":"IF(B5=2,TRUE,FALSE)","v":false},{"$f":"IF(B5=3,TRUE,FALSE)","v":false},{"$f":"IF(B5=3,TRUE,FALSE)","v":false},null,{"$f":"IF(B6=3,TRUE,FALSE)","v":false},{"$f":"IF(B6=3,TRUE,FALSE)","v":false},{"$f":"IF(B6=3,TRUE,FALSE)","v":false},{"$f":"IF(B6=3,TRUE,FALSE)","v":false},{"$f":"IF(B6=3,TRUE,FALSE)","v":false},{"$f":"IF(B6=3,TRUE,FALSE)","v":false},{"$nulls":8},false,false,false,false,false,false,null,false,false,false,false,false,false,null,{"$f":"IFERROR(INDEX(BI9:BN9,MATCH(TRUE,TRANSPOSE(BB9:BG9),0)),\"\")","v":""}]
[{"$nulls":10},"C-SINK DIA @ 100 DEG",0.109,0.069,0.061,0.107,0.116,0.104,null,{"$f":"AND(B2=1,B4=1)","v":false},{"$f":"AND(B2=1,B4=1)","v":false},{"$f":"AND(B2=1,B4=1)","v":false},{"$f":"AND(B2=1,B4=1)","v":false},{"$f":"AND(B2=1,B4=1)","v":false},{"$f":"AND(B2=1,B4=1)","v":false},null,{"$f":"IF(B3=1,TRUE,FALSE)","v":false},{"$f":"IF(B3=2,TRUE,FALSE)","v":false},{"$f":"IF(B3=1,TRUE,FALSE)","v":false},{"$f":"IF(B3=2,TRUE,FALSE)","v":false},{"$f":"IF(B3=1,TRUE,FALSE)","v":false},{"$f":"IF(B3=2,TRUE,FALSE)","v":false},null,{"$f":"IF(B5=1,TRUE,FALSE)","v":false},{"$f":"IF(B5=1,TRUE,FALSE)","v":false},{"$f":"IF(B5=2,TRUE,FALSE)","v":false},{"$f":"IF(B5=2,TRUE,FALSE)","v":false},{"$f":"IF(B5=3,TRUE,FALSE)","v":false},{"$f":"IF(B5=3,TRUE,FALSE)","v":false},{"$nulls":8},{"$f":"IF(B7=2,TRUE,FALSE)","v":false},{"$f":"IF(B7=2,TRUE,FALSE)","v":false},{"$f":"IF(B7=2,TRUE,FALSE)","v":false},{"$f":"IF(B7=2,TRUE,FALSE)","v":false},{"$f":"IF(B7=2,TRUE,FALSE)","v":false},{"$f":"IF(B7=2,TRUE,FALSE)","v":false},null,{"$f":"AND(S10=TRUE,Z10=TRUE,AG10=TRUE,AU10=TRUE)","v":false},{"$f":"AND(T10=TRUE,AA10=TRUE,AH10=TRUE,AV10=TRUE)","v":false},false,false,false,false,null,false,false,false,false,false,false,null,{"$f":"IFERROR(INDEX(BI10:BN10,MATCH(TRUE,TRANSPOSE(BB10:BG10),0)),\"\")","v":""}]
[{"$nulls":8},2,".138(#6)","HOLE LIMIT MAX",0.04,0.005,0.006,0.085,0.122,0.085,null,{"$f":"AND(B2=1,B4=2)","v":false},{"$f":"AND(B2=1,B4=2)","v":false},{"$f":"AND(B2=1,B4=2)","v":false},{"$f":"AND(B2=1,B4=2)","v":false},{"$f":"AND(B2=1,B4=2)","v":false},{"$f":"AND(B2=1,B4=2)","v":false},null,{"$f":"IF(B3=1,TRUE,FALSE)","v":false},{"$f":"IF(B3=2,TRUE,FALSE)","v":false},{"$f":"IF(B3=1,TRUE,FALSE)","v":false},{"$f":"IF(B3=2,TRUE,FALSE)","v":false},{"$f":"IF(B3=1,TRUE,FALSE)","v":false},{"$f":"IF(B3=2,TRUE,FALSE)","v":false},null,{"$f":"IF(B5=1,TRUE,FALSE)","v":false},{"$f":"IF(B5=1,TRUE,FALSE)","v":false},{"$f":"IF(B5=2,TRUE,FALSE)","v":false},{"$f":"IF(B5=2,TRUE,FALSE)","v":false},{"$f":"IF(B5=3,TRUE,FALSE)","v":false},{"$f":"IF(B5=3,TRUE,FALSE)","v":false},{"$nulls":15},{"$f":"AND(S11=TRUE,Z11=TRUE,AG11=TRUE)","v":false},{"$f":"AND(T11=TRUE,AA11=TRUE,AH11=TRUE)","v":false},{"$f":"AND(U11=TRUE,AB11=TRUE,AI11=TRUE)","v":false},{"$f":"AND(V11=TRUE,AC11=TRUE,AJ11=TRUE)","v":false},{"$f":"AND(W11=TRUE,AD11=TRUE,AK11=TRUE)","v":false},{"$f":"AND(X11=TRUE,AE11=TRUE,AL11=TRUE)","v":false},null,false,false,false,false,false,false,null,{"$f":"IFERROR(INDEX(BI11:BN11,MATCH(TRUE,TRANSPOSE(BB11:BG11),0)),\"\")","v":""}]
[{"$nulls":10},"HOLE LIMIT MIN",0.057,1E-3,0.114,0.042,0.012,0.115,null,{"$f":"AND(B2=1,B4=2)","v":false},{"$f":"AND(B2=1,B4=2)","v":false},{"$f":"AND(B2=1,B4=2)","v":false},{"$f":"AND(B2=1,B4=2)","v":false},{"$f":"AND(B2=1,B4=2)","v":false},{"$f":"AND(B2=1,B4=2)","v":false},null,{"$f":"IF(B3=1,TRUE,FALSE)","v":false},{"$f":"IF(B3=2,TRUE,FALSE)","v":false},{"$f":"IF(B3=1,TRUE,FALSE)","v":false},{"$f":"IF(B3=2,TRUE,FALSE)","v":false},{"$f":"IF(B3=1,TRUE,FALSE)","v":false},{"$f":"IF(B3=2,TRUE,FALSE)","v":false},null,{"$f":"IF(B5=1,TRUE,FALSE)","v":false},{"$f":"IF(B5=1,TRUE,FALSE)","v":false},{"$f":"IF(B5=2,TRUE,FALSE)","v":false},{"$f":"IF(B5=2,TRUE,FALSE)","v":false},{"$f":"IF(B5=3,TRUE,FALSE)","v":false},{"$f":"IF(B5=3,TRUE,FALSE)","v":false},{"$nulls":15},{"$f":"AND(S12=TRUE,Z12=TRUE,AG12=TRUE)","v":false},false,false,false,false,false,null,false,false,false,false,false,false,null,{"$f":"IFERROR(INDEX(BI12:BN12,MATCH(TRUE,TRANSPOSE(BB12:BG12),0)),\"\")","v":""}]
[{"$nulls":10},"MODEL TO DIAMETER",0.113,0.09,0.031,0.05,0.104,0.06,null,{"$f":"AND(B2=1,B4=2)","v":false},{"$f":"AND(B2=1,B4=2)","v":false},{"$f":"AND(B2=1,B4=2)","v":false},{"$f":"AND(B2=1,B4=2)","v":false},{"$f":"AND(B2=1,B4=2)","v":false},{"$f":"AND(B2=1,B4=2)","v":false},null,{"$f":"IF(B3=1,TRUE,FALSE)","v":false},{"$f":"IF(B3=2,TRUE,FALSE)","v":false},{"$f":"IF(B3=1,TRUE,FALSE)","v":false},{"$f":"IF(B3=2,TRUE,FALSE)","v":false},{"$f":"IF(B3=1,TRUE,FALSE)","v":false},{"$f":"IF(B3=2,TRUE,FALSE)","v":false},null,{"$f":"IF(B5=1,TRUE,FALSE)","v":false},{"$f":"IF(B5=1,TRUE,FALSE)","v":false},{"$f":"IF(B5=2,TRUE,FALSE)","v":false},{"$f":"IF(B5=2,TRUE,FALSE)","v":false},{"$f":"IF(B5=3,TRUE,FALSE)","v":false},{"$f":"IF(B5=3,TRUE,FALSE)","v":false},{"$nulls":15},{"$f":"AND(S13=TRUE,Z13=TRUE,AG13=TRUE)","v":false},false,false,false,false,false,null,false,false,false,false,false,false,null,{"$f":"IFERROR(INDEX(BI13:BN13,MATCH(TRUE,TRANSPOSE(BB13:BG13),0)),\"\")","v":""}]
[{"$nulls":10},"POS TOL FLOATING",0.111,0.004,0.1,0.016,0.058,0.027,null,{"$f":"AND(B2=1,B4=2)","v":false},{"$f":"AND(B2=1,B4=2)","v":false},{"$f":"AND(B2=1,B4=2)","v":false},{"$f":"AND(B2=1,B4=2)","v":false},{"$f":"AND(B2=1,B4=2)","v":false},{"$f":"AND(B2=1,B4=2)","v":false},null,{"$f":"IF(B3=1,TRUE,FALSE)","v":false},{"$f":"IF(B3=2,TRUE,FALSE)","v":false},{"$f":"IF(B3=1,TRUE,FALSE)","v":false},{"$f":"IF(B3=2,TRUE,FALSE)","v":false},{"$f":"IF(B3=1,TRUE,FALSE)","v":false},{"$f":"IF(B3=2,TRUE,FALSE)","v":false},null,{"$f":"IF(B5=1,TRUE,FALSE)","v":false},{"$f":"IF(B5=1,TRUE,FALSE)","v":false},{"$f":"IF(B5=2,TRUE,FALSE)","v":false},{"$f":"IF(B5=2,TRUE,FALSE)","v":false},{"$f":"IF(B5=3,TRUE,FALSE)","v":false},{"$f":"IF(B5=3,TRUE,FALSE)","v":false},null,{"$f":"IF(B6=1,TRUE,FALSE)","v":false},{"$f":"IF(B6=1,TRUE,FALSE)","v":false},{"$f":"IF(B6=1,TRUE,FALSE)","v":false},{"$f":"IF(B6=1,TRUE,FALSE)","v":false},{"$f":"IF(B6=1,TRUE,FALSE)","v":false},{"$f":"IF(B6=1,TRUE,FALSE)","v":false},{"$nulls":8},{"$f":"AND(S14=TRUE,Z14=TRUE,AG14=TRUE,AN14=TRUE)","v":false},{"$f":"AND(T14=TRUE,AA14=TRUE,AH14=TRUE,AO14=TRUE)","v":false},{"$f":"AND(U14=TRUE,AB14=TRUE,AI14=TRUE,AP14=TRUE)","v":false},{"$f":"AND(V14=TRUE,AC14=TRUE,AJ14=TRUE,AQ14=TRUE)","v":false},{"$f":"AND(W14=TRUE,AD14=TRUE,AK14=TRUE,AR14=TRUE)","v":false},{"$f":"AND(X14=TRUE,AE14=TRUE,AL14=TRUE,AS14=TRUE)","v":false},null,false,false,false,false,false,false,null,{"$f":"IFERROR(INDEX(BI14:BN14,MATCH(TRUE,TRANSPOSE(BB14:BG14),0)),\"\")","v":""}]
[{"$nulls":10},"POS TOL FIXED THD","N/A","N/A",0.121,0.101,0.094,0.102,null,{"$f":"AND(B2=1,B4=2)","v":false},{"$f":"AND(B2=1,B4=2)","v":false},{"$f":"AND(B2=1,B4=2)","v":false},{"$f":"AND(B2=1,B4=2)","v":false},{"$f":"AND(B2=1,B4=2)","v":false},{"$f":"AND(B2=1,B4=2)","v":false},null,{"$f":"IF(B3=1,TRUE,FALSE)","v":false},{"$f":"IF(B3=2,TRUE,FALSE)","v":false},{"$f":"IF(B3=1,TRUE,FALSE)","v":false},{"$f":"IF(B3=2,TRUE,FALSE)","v":false},{"$f":"IF(B3=1,TRUE,FALSE)","v":false},{"$f":"IF(B3=2,TRUE,FALSE)","v":false},null,{"$f":"IF(B5=1,TRUE,FALSE)","v":false},{"$f":"IF(B5=1,TRUE,FALSE)","v":false},{"$f":"IF(B5=2,TRUE,FALSE)","v":false},{"$f":"IF(B5=2,TRUE,FALSE)","v":false},{"$f":"IF(B5=3,TRUE,FALSE)","v":false},{"$f":"IF(B5=3,TRUE,FALSE)","v":false},null,{"$f":"IF(B6=2,TRUE,FALSE)","v":false},{"$f":"IF(B6=2,TRUE,FALSE)","v":false},{"$f":"IF(B6=2,TRUE,FALSE)","v":false},{"$f":"IF(B6=2,TRUE,FALSE)","v":false},{"$f":"IF(B6=2,TRUE,FALSE)","v":false},{"$f":"IF(B6=2,TRUE,FALSE)","v":false},{"$nulls":8},{"$f":"AND(S15=TRUE,Z15=TRUE,AG15=TRUE,AN15=TRUE)","v":false},false,false,false,false,false,null,false,false,false,false,false,false,null,{"$f":"IFERROR(INDEX(BI15:BN15,MATCH(TRUE,TRANSPOSE(BB15:BG15),0)),\"\")","v":""}]
[{"$nulls":10},"POS TOL FIXED CLR",0.071,0.118,0.064,0.047,0.019,0.061,null,{"$f":"AND(B2=1,B4=2)","v":false},{"$f":"AND(B2=1,B4=2)","v":false},{"$f":"AND(B2=1,B4=2)","v":false},{"$f":"AND(B2=1,B4=2)","v":false},{"$f":"AND(B2=1,B4=2)","v":false},{"$f":"AND(B2=1,B4=2)","v":false},null,{"$f":"IF(B3=1,TRUE,FALSE)","v":false},{"$f":"IF(B3=2,TRUE,FALSE)","v":false},{"$f":"IF(B3=1,TRUE,FALSE)","v":false},{"$f":"IF(B3=2,TRUE,FALSE)","v":false},{"$f":"IF(B3=1,TRUE,FALSE)","v":false},{"$f":"IF(B3=2,TRUE,FALSE)","v":false},null,{"$f":"IF(B5=1,TRUE,FALSE)","v":false},{"$f":"IF(B5=1,TRUE,FALSE)","v":false},{"$f":"IF(B5=2,TRUE,FALSE)","v":false},{"$f":"IF(B5=2,TRUE,FALSE)","v":false},{"$f":"IF(B5=3,TRUE,FALSE)","v":false},{"$f":"IF(B5=3,TRUE,FALSE)","v":false},null,{"$f":"IF(B6=3,TRUE,FALSE)","v":false},{"$f":"IF(B6=3,TRUE,FALSE)","v":false},{"$f":"IF(B6=3,TRUE,FALSE)","v":false},{"$f":"IF(B6=3,TRUE,FALSE)","v":false},{"$f":"IF(B6=3,TRUE,FALSE)","v":false},{"$f":"IF(B6=3,TRUE,FALSE)","v":false},{"$nulls":8},false,false,false,false,false,false,null,false,false,false,false,false,false,null,{"$f":"IFERROR(INDEX(BI16:BN16,MATCH(TRUE,TRANSPOSE(BB16:BG16),0)),\"\")","v":""}]
[{"$nulls":10},"C-SINK DIA @ 100 DEG",0.078,0.029,0.114,0.033,0.122,0.018,null,{"$f":"AND(B2=1,B4=2)","v":false},{"$f":"AND(B2=1,B4=2)","v":false},{"$f":"AND(B2=1,B4=2)","v":false},{"$f":"AND(B2=1,B4=2)","v":false},{"$f":"AND(B2=1,B4=2)","v":false},{"$f":"AND(B2=1,B4=2)","v":false},null,{"$f":"IF(B3=1,TRUE,FALSE)","v":false},{"$f":"IF(B3=2,TRUE,FALSE)","v":false},{"$f":"IF(B3=1,TRUE,FALSE)","v":false},{"$f":"IF(B3=2,TRUE,FALSE)","v":false},{"$f":"IF(B3=1,TRUE,FALSE)","v":false},{"$f":"IF(B3=2,TRUE,FALSE)","v":false},null,{"$f":"IF(B5=1,TRUE,FALSE)","v":false},{"$f":"IF(B5=1,TRUE,FALSE)","v":false},{"$f":"IF(B5=2,TRUE,FALSE)","v":false},{"$f":"IF(B5=2,TRUE,FALSE)","v":false},{"$f":"IF(B5=3,TRUE,FALSE)","v":false},{"$f":"IF(B5=3,TRUE,FALSE)","v":false},{"$nulls":8},{"$f":"IF(B7=2,TRUE,FALSE)","v":false},{"$f":"IF(B7=2,TRUE,FALSE)","v":false},{"$f":"IF(B7=2,TRUE,FALSE)","v":false},{"$f":"IF(B7=2,TRUE,FALSE)","v":false},{"$f":"IF(B7=2,TRUE,FALSE)","v":false},{"$f":"IF(B7=2,TRUE,FALSE)","v":false},null,{"$f":"AND(S17=TRUE,Z17=TRUE,AG17=TRUE,AU17=TRUE)","v":false},{"$f":"AND(T17=TRUE,AA17=TRUE,AH17=TRUE,AV17=TRUE)","v":false},{"$f":"AND(U17=TRUE,AB17=TRUE,AI17=TRUE,AW17=TRUE)","v":false},{"$f":"AND(V17=TRUE,AC17=TRUE,AJ17=TRUE,AX17=TRUE)","v":false},{"$f":"AND(W17=TRUE,AD17=TRUE,AK17=TRUE,AY17=TRUE)","v":false},{"$f":"AND(X17=TRUE,AE17=TRUE,AL17=TRUE,AZ17=TRUE)","v":false},null,false,false,false,false,false,false,null,{"$f":"IFERROR(INDEX(BI17:BN17,MATCH(TRUE,TRANSPOSE(BB17:BG17),0)),\"\")","v":""}]
[{"$nulls":8},3,".164(#8)","HOLE LIMIT MAX",0.023,0.029,0.099,0.07,0.066,0.05,null,{"$f":"AND(B2=1,B4=3)","v":false},{"$f":"AND(B2=1,B4=3)","v":false},{"$f":"AND(B2=1,B4=3)","v":false},{"$f":"AND(B2=1,B4=3)","v":false},{"$f":"AND(B2=1,B4=3)","v":false},{"$f":"AND(B2=1,B4=3)","v":false},null,{"$f":"IF(B3=1,TRUE,FALSE)","v":false},{"$f":"IF(B3=2,TRUE,FALSE)","v":false},{"$f":"IF(B3=1,TRUE,FALSE)","v":false},{"$f":"IF(B3=2,TRUE,FALSE)","v":false},{"$f":"IF(B3=1,TRUE,FALSE)","v":false},{"$f":"IF(B3=2,TRUE,FALSE)","v":false},null,{"$f":"IF(B5=1,TRUE,FALSE)","v":false},{"$f":"IF(B5=1,TRUE,FALSE)","v":false},{"$f":"IF(B5=2,TRUE,FALSE)","v":false},{"$f":"IF(B5=2,TRUE,FALSE)","v":false},{"$f":"IF(B5=3,TRUE,FALSE)","v":false},{"$f":"IF(B5=3,TRUE,FALSE)","v":false},{"$nulls":15},{"$f":"AND(S18=TRUE,Z18=TRUE,AG18=TRUE)","v":false},{"$f":"AND(T18=TRUE,AA18=TRUE,AH18=TRUE)","v":false},{"$f":"AND(U18=TRUE,AB18=TRUE,AI18=TRUE)","v":false},{"$f":"AND(V18=TRUE,AC18=TRUE,AJ18=TRUE)","v":false},{"$f":"AND(W18=TRUE,AD18=TRUE,AK18=TRUE)","v":false},{"$f":"AND(X18=TRUE,AE18=TRUE,AL18=TRUE)","v":false},null,false,false,false,false,false,false,null,{"$f":"IFERROR(INDEX(BI18:BN18,MATCH(TRUE,TRANSPOSE(BB18:BG18),0)),\"\")","v":""}]
[{"$nulls":10},"HOLE LIMIT MIN",0.116,0.009,0.057,0.073,0.006,0.044,null,{"$f":"AND(B2=1,B4=3)","v":false},{"$f":"AND(B2=1,B4=3)","v":false},{"$f":"AND(B2=1,B4=3)","v":false},{"$f":"AND(B2=1,B4=3)","v":false},{"$f":"AND(B2=1,B4=3)","v":false},{"$f":"AND(B2=1,B4=3)","v":false},null,{"$f":"IF(B3=1,TRUE,FALSE)","v":false},{"$f":"IF(B3=2,TRUE,FALSE)","v":false},{"$f":"IF(B3=1,TRUE,FALSE)","v":false},{"$f":"IF(B3=2,TRUE,FALSE)","v":false},{"$f":"IF(B3=1,TRUE,FALSE)","v":false},{"$f":"IF(B3=2,TRUE,FALSE)","v":false},null,{"$f":"IF(B5=1,TRUE,FALSE)","v":false},{"$f":"IF(B5=1,TRUE,FALSE)","v":false},{"$f":"IF(B5=2,TRUE,FALSE)","v":false},{"$f":"IF(B5=2,TRUE,FALSE)","v":false},{"$f":"IF(B5=3,TRUE,FALSE)","v":false},{"$f":"IF(B5=3,TRUE,FALSE)","v":false},{"$nulls":15},{"$f":"AND(S19=TRUE,Z19=TRUE,AG19=TRUE)","v":false},false,false,false,false,false,null,false,false,false,false,false,false,null,{"$f":"IFERROR(INDEX(BI19:BN19,MATCH(TRUE,TRANSPOSE(BB19:BG19),0)),\"\")","v":""}]
[{"$nulls":10},"MODEL TO DIAMETER",0.09,0.106,0.036,0.026,0.089,0.005,null,{"$f":"AND(B2=1,B4=3)","v":false},{"$f":"AND(B2=1,B4=3)","v":false},{"$f":"AND(B2=1,B4=3)","v":false},{"$f":"AND(B2=1,B4=3)","v":false},{"$f":"AND(B2=1,B4=3)","v":false},{"$f":"AND(B2=1,B4=3)","v":false},null,{"$f":"IF(B3=1,TRUE,FALSE)","v":false},{"$f":"IF(B3=2,TRUE,FALSE)","v":false},{"$f":"IF(B3=1,TRUE,FALSE)","v":false},{"$f":"IF(B3=2,TRUE,FALSE)","v":false},{"$f":"IF(B3=1,TRUE,FALSE)","v":false},{"$f":"IF(B3=2,TRUE,FALSE)","v":false},null,{"$f":"IF(B5=1,TRUE,FALSE)","v":false},{"$f":"IF(B5=1,TRUE,FALSE)","v":false},{"$f":"IF(B5=2,TRUE,FALSE)","v":false},{"$f":"IF(B5=2,TRUE,FALSE)","v":false},{"$f":"IF(B5=3,TRUE,FALSE)","v":false},{"$f":"IF(B5=3,TRUE,FALSE)","v":false},{"$nulls":15},{"$f":"AND(S20=TRUE,Z20=TRUE,AG20=TRUE)","v":false},false,false,false,false,false,null,false,{"$f":"IF(BC20=TRUE,M20)","v":false},{"$f":"IF(BD20=TRUE,N20)","v":false},{"$f":"IF(BE20=TRUE,O20)","v":false},{"$f":"IF(BF20=TRUE,P20)","v":false},{"$f":"IF(BG20=TRUE,Q20)","v":false},null,{"$f":"IFERROR(INDEX(BI20:BN20,MATCH(TRUE,TRANSPOSE(BB20:BG20),0)),\"\")","v":""}]
[{"$nulls":10},"POS TOL FLOATING",0.032,0.021,0.045,0.114,0.074,0.077,null,{"$f":"AND(B2=1,B4=3)","v":false},{"$f":"AND(B2=1,B4=3)","v":false},{"$f":"AND(B2=1,B4=3)","v":false},{"$f":"AND(B2=1,B4=3)","v":false},{"$f":"AND(B2=1,B4=3)","v":false},{"$f":"AND(B2=1,B4=3)","v":false},null,{"$f":"IF(B3=1,TRUE,FALSE)","v":false},{"$f":"IF(B3=2,TRUE,FALSE)","v":false},{"$f":"IF(B3=1,TRUE,FALSE)","v":false},{"$f":"IF(B3=2,TRUE,FALSE)","v":false},{"$f":"IF(B3=1,TRUE,FALSE)","v":false},{"$f":"IF(B3=2,TRUE,FALSE)","v":false},null,{"$f":"IF(B5=1,TRUE,FALSE)","v":false},{"$f":"IF(B5=1,TRUE,FALSE)","v":false},{"$f":"IF(B5=2,TRUE,FALSE)","v":false},{"$f":"IF(B5=2,TRUE,FALSE)","v":false},{"$f":"IF(B5=3,TRUE,FALSE)","v":false},{"$f":"IF(B5=3,TRUE,FALSE)","v":false},null,{"$f":"IF(B6=1,TRUE,FALSE)","v":false},{"$f":"IF(B6=1,TRUE,FALSE)","v":false},{"$f":"IF(B6=1,TRUE,FALSE)","v":false},{"$f":"IF(B6=1,TRUE,FALSE)","v":false},{"$f":"IF(B6=1,TRUE,FALSE)","v":false},{"$f":"IF(B6=1,TRUE,FALSE)","v":false},{"$nulls":8},{"$f":"AND(S21=TRUE,Z21=TRUE,AG21=TRUE,AN21=TRUE)","v":false},{"$f":"AND(T21=TRUE,AA21=TRUE,AH21=TRUE,AO21=TRUE)","v":false},{"$f":"AND(U21=TRUE,AB21=TRUE,AI21=TRUE,AP21=TRUE)","v":false},{"$f":"AND(V21=TRUE,AC21=TRUE,AJ21=TRUE,AQ21=TRUE)","v":false},{"$f":"AND(W21=TRUE,AD21=TRUE,AK21=TRUE,AR21=TRUE)","v":false},{"$f":"AND(X21=TRUE,AE21=TRUE,AL21=TRUE,AS21=TRUE)","v":false},null,false,false,false,false,false,false,null,{"$f":"IFERROR(INDEX(BI21:BN21,MATCH(TRUE,TRANSPOSE(BB21:BG21),0)),\"\")","v":""}]
[{"$nulls":10},"POS TOL FIXED THD","N/A","N/A",0.056,0.029,0.107,0.111,null,{"$f":"AND(B2=1,B4=3)","v":false},{"$f":"AND(B2=1,B4=3)","v":false},{"$f":"AND(B2=1,B4=3)","v":false},{"$f":"AND(B2=1,B4=3)","v":false},{"$f":"AND(B2=1,B4=3)","v":false},{"$f":"AND(B2=1,B4=3)","v":false},null,{"$f":"IF(B3=1,TRUE,FALSE)","v":false},{"$f":"IF(B3=2,TRUE,FALSE)","v":false},{"$f":"IF(B3=1,TRUE,FALSE)","v":false},{"$f":"IF(B3=2,TRUE,FALSE)","v":false},{"$f":"IF(B3=1,TRUE,FALSE)","v":false},{"$f":"IF(B3=2,TRUE,FALSE)","v":false},null,{"$f":"IF(B5=1,TRUE,FALSE)","v":false},{"$f":"IF(B5=1,TRUE,FALSE)","v":false},{"$f":"IF(B5=2,TRUE,FALSE)","v":false},{"$f":"IF(B5=2,TRUE,FALSE)","v":false},{"$f":"IF(B5=3,TRUE,FALSE)","v":false},{"$f":"IF(B5=3,TRUE,FALSE)","v":false},null,{"$f":"IF(B6=2,TRUE,FALSE)","v":false},{"$f":"IF(B6=2,TRUE,FALSE)","v":false},{"$f":"IF(B6=2,TRUE,FALSE)","v":false},{"$f":"IF(B6=2,TRUE,FALSE)","v":false},{"$f":"IF(B6=2,TRUE,FALSE)","v":false},{"$f":"IF(B6=2,TRUE,FALSE)","v":false},{"$nulls":8},{"$f":"AND(S22=TRUE,Z22=TRUE,AG22=TRUE,AN22=TRUE)","v":false},false,false,false,false,false,null,false,false,false,false,false,false,null,{"$f":"IFERROR(INDEX(BI22:BN22,MATCH(TRUE,TRANSPOSE(BB22:BG22),0)),\"\")","v":""}]
[{"$nulls":10},"POS TOL FIXED CLR",0.034,0.052,0.009,0.073,0.01,0.013,null,{"$f":"AND(B2=1,B4=3)","v":false},{"$f":"AND(B2=1,B4=3)","v":false},{"$f":"AND(B2=1,B4=3)","v":false},{"$f":"AND(B2=1,B4=3)","v":false},{"$f":"AND(B2=1,B4=3)","v":false},{"$f":"AND(B2=1,B4=3)","v":false},null,{"$f":"IF(B3=1,TRUE,FALSE)","v":false},{"$f":"IF(B3=2,TRUE,FALSE)","v":false},{"$f":"IF(B3=1,TRUE,FALSE)","v":false},{"$f":"IF(B3=2,TRUE,FALSE)","v":false},{"$f":"IF(B3=1,TRUE,FALSE)","v":false},{"$f":"IF(B3=2,TRUE,FALSE)","v":false},null,{"$f":"IF(B5=1,TRUE,FALSE)","v":false},{"$f":"IF(B5=1,TRUE,FALSE)","v":false},{"$f":"IF(B5=2,TRUE,FALSE)","v":false},{"$f":"IF(B5=2,TRUE,FALSE)","v":false},{"$f":"IF(B5=3,TRUE,FALSE)","v":false},{"$f":"IF(B5=3,TRUE,FALSE)","v":false},null,{"$f":"IF(B6=3,TRUE,FALSE)","v":false},{"$f":"IF(B6=3,TRUE,FALSE)","v":false},{"$f":"IF(B6=3,TRUE,FALSE)","v":false},{"$f":"IF(B6=3,TRUE,FALSE)","v":false},{"$f":"IF(B6=3,TRUE,FALSE)","v":false},{"$f":"IF(B6=3,TRUE,FALSE)","v":false},{"$nulls":8},false,false,false,false,false,false,null,false,false,false,false,false,false,null,{"$f":"IFERROR(INDEX(BI23:BN23,MATCH(TRUE,TRANSPOSE(BB23:BG23),0)),\"\")","v":""}]
[{"$nulls":10},"C-SINK DIA @ 100 DEG",0.007,0.003,0.046,0.088,0.027,0.087,null,{"$f":"AND(B2=1,B4=3)","v":false},{"$f":"AND(B2=1,B4=3)","v":false},{"$f":"AND(B2=1,B4=3)","v":false},{"$f":"AND(B2=1,B4=3)","v":false},{"$f":"AND(B2=1,B4=3)","v":false},{"$f":"AND(B2=1,B4=3)","v":false},null,{"$f":"IF(B3=1,TRUE,FALSE)","v":false},{"$f":"IF(B3=2,TRUE,FALSE)","v":false},{"$f":"IF(B3=1,TRUE,FALSE)","v":false},{"$f":"IF(B3=2,TRUE,FALSE)","v":false},{"$f":"IF(B3=1,TRUE,FALSE)","v":false},{"$f":"IF(B3=2,TRUE,FALSE)","v":false},null,{"$f":"IF(B5=1,TRUE,FALSE)","v":false},{"$f":"IF(B5=1,TRUE,FALSE)","v":false},{"$f":"IF(B5=2,TRUE,FALSE)","v":false},{"$f":"IF(B5=2,TRUE,FALSE)","v":false},{"$f":"IF(B5=3,TRUE,FALSE)","v":false},{"$f":"IF(B5=3,TRUE,FALSE)","v":false},{"$nulls":8},{"$f":"IF(B7=2,TRUE,FALSE)","v":false},{"$f":"IF(B7=2,TRUE,FALSE)","v":false},{"$f":"IF(B7=2,TRUE,FALSE)","v":false},{"$f":"IF(B7=2,TRUE,FALSE)","v":false},{"$f":"IF(B7=2,TRUE,FALSE)","v":false},{"$f":"IF(B7=2,TRUE,FALSE)","v":false},null,{"$f":"AND(S24=TRUE,Z24=TRUE,AG24=TRUE,AU24=TRUE)","v":false},{"$f":"AND(T24=TRUE,AA24=TRUE,AH24=TRUE,AV24=TRUE)","v":false},{"$f":"AND(U24=TRUE,AB24=TRUE,AI24=TRUE,AW24=TRUE)","v":false},{"$f":"AND(V24=TRUE,AC24=TRUE,AJ24=TRUE,AX24=TRUE)","v":false},{"$f":"AND(W24=TRUE,AD24=TRUE,AK24=TRUE,AY24=TRUE)","v":false},{"$f":"AND(X24=TRUE,AE24=TRUE,AL24=TRUE,AZ24=TRUE)","v":false},null,false,false,false,false,false,false,null,{"$f":"IFERROR(INDEX(BI24:BN24,MATCH(TRUE,TRANSPOSE(BB24:BG24),0)),\"\")","v":""}]
[{"$nulls":8},4,".190(#10)","HOLE LIMIT MAX",0.05,0.111,0.1,1E-3,0.092,0.051,null,{"$f":"AND(B2=1,B4=4)","v":false},{"$f":"AND(B2=1,B4=4)","v":false},{"$f":"AND(B2=1,B4=4)","v":false},{"$f":"AND(B2=1,B4=4)","v":false},{"$f":"AND(B2=1,B4=4)","v":false},{"$f":"AND(B2=1,B4=4)","v":false},null,{"$f":"IF(B3=1,TRUE,FALSE)","v":false},{"$f":"IF(B3=2,TRUE,FALSE)","v":false},{"$f":"IF(B3=1,TRUE,FALSE)","v":false},{"$f":"IF(B3=2,TRUE,FALSE)","v":false},{"$f":"IF(B3=1,TRUE,FALSE)","v":false},{"$f":"IF(B3=2,TRUE,FALSE)","v":false},null,{"$f":"IF(B5=1,TRUE,FALSE)","v":false},{"$f":"IF(B5=1,TRUE,FALSE)","v":false},{"$f":"IF(B5=2,TRUE,FALSE)","v":false},{"$f":"IF(B5=2,TRUE,FALSE)","v":false},{"$f":"IF(B5=3,TRUE,FALSE)","v":false},{"$f":"IF(B5=3,TRUE,FALSE)","v":false},{"$nulls":15},{"$f":"AND(S25=TRUE,Z25=TRUE,AG25=TRUE)","v":false},{"$f":"AND(T25=TRUE,AA25=TRUE,AH25=TRUE)","v":false},{"$f":"AND(U25=TRUE,AB25=TRUE,AI25=TRUE)","v":false},{"$f":"AND(V25=TRUE,AC25=TRUE,AJ25=TRUE)","v":false},{"$f":"AND(W25=TRUE,AD25=TRUE,AK25=TRUE)","v":false},{"$f":"AND(X25=TRUE,AE25=TRUE,AL25=TRUE)","v":false},null,false,false,false,false,false,false,null,{"$f":"IFERROR(INDEX(BI25:BN25,MATCH(TRUE,TRANSPOSE(BB25:BG25),0)),\"\")","v":""}]
[{"$nulls":10},"HOLE LIMIT MIN",0.035,0.083,0.108,0.118,0.016,0.08,null,{"$f":"AND(B2=1,B4=4)","v":false},{"$f":"AND(B2=1,B4=4)","v":false},{"$f":"AND(B2=1,B4=4)","v":false},{"$f":"AND(B2=1,B4=4)","v":false},{"$f":"AND(B2=1,B4=4)","v":false},{"$f":"AND(B2=1,B4=4)","v":false},null,{"$f":"IF(B3=1,TRUE,FALSE)","v":false},{"$f":"IF(B3=2,TRUE,FALSE)","v":false},{"$f":"IF(B3=1,TRUE,FALSE)","v":false},{"$f":"IF(B3=2,TRUE,FALSE)","v":false},{"$f":"IF(B3=1,TRUE,FALSE)","v":false},{"$f":"IF(B3=2,TRUE,FALSE)","v":false},null,{"$f":"IF(B5=1,TRUE,FALSE)","v":false},{"$f":"IF(B5=1,TRUE,FALSE)","v":false},{"$f":"IF(B5=2,TRUE,FALSE)","v":false},{"$f":"IF(B5=2,TRUE,FALSE)","v":false},{"$f":"IF(B5=3,TRUE,FALSE)","v":false},{"$f":"IF(B5=3,TRUE,FALSE)","v":false},{"$nulls":15},{"$f":"AND(S26=TRUE,Z26=TRUE,AG26=TRUE)","v":false},false,false,false,false,false,null,false,false,false,false,false,false,null,{"$f":"IFERROR(INDEX(BI26:BN26,MATCH(TRUE,TRANSPOSE(BB26:BG26),0)),\"\")","v":""}]
[{"$nulls":10},"MODEL TO DIAMETER",0.005,0.003,0.008,0.125,0.084,0.104,null,{"$f":"AND(B2=1,B4=4)","v":false},{"$f":"AND(B2=1,B4=4)","v":false},{"$f":"AND(B2=1,B4=4)","v":false},{"$f":"AND(B2=1,B4=4)","v":false},{"$f":"AND(B2=1,B4=4)","v":false},{"$f":"AND(B2=1,B4=4)","v":false},null,{"$f":"IF(B3=1,TRUE,FALSE)","v":false},{"$f":"IF(B3=2,TRUE,FALSE)","v":false},{"$f":"IF(B3=1,TRUE,FALSE)","v":false},{"$f":"IF(B3=2,TRUE,FALSE)","v":false},{"$f":"IF(B3=1,TRUE,FALSE)","v":false},{"$f":"IF(B3=2,TRUE,FALSE)","v":false},null,{"$f":"IF(B5=1,TRUE,FALSE)","v":false},{"$f":"IF(B5=1,TRUE,FALSE)","v":false},{"$f":"IF(B5=2,TRUE,FALSE)","v":false},{"$f":"IF(B5=2,TRUE,FALSE)","v":false},{"$f":"IF(B5=3,TRUE,FALSE)","v":false},{"$f":"IF(B5=3,TRUE,FALSE)","v":false},{"$nulls":15},{"$f":"AND(S27=TRUE,Z27=TRUE,AG27=TRUE)","v":false},false,false,false,false,false,null,false,false,false,false,false,false,null,{"$f":"IFERROR(INDEX(BI27:BN27,MATCH(TRUE,TRANSPOSE(BB27:BG27),0)),\"\")","v":""}]
[{"$nulls":10},"POS TOL FLOATING",0.039,0.031,0.043,0.12,0.062,0.03,null,{"$f":"AND(B2=1,B4=4)","v":false},{"$f":"AND(B2=1,B4=4)","v":false},{"$f":"AND(B2=1,B4=4)","v":false},{"$f":"AND(B2=1,B4=4)","v":false},{"$f":"AND(B2=1,B4=4)","v":false},{"$f":"AND(B2=1,B4=4)","v":false},null,{"$f":"IF(B3=1,TRUE,FALSE)","v":false},{"$f":"IF(B3=2,TRUE,FALSE)","v":false},{"$f":"IF(B3=1,TRUE,FALSE)","v":false},{"$f":"IF(B3=2,TRUE,FALSE)","v":false},{"$f":"IF(B3=1,TRUE,FALSE)","v":false},{"$f":"IF(B3=2,TRUE,FALSE)","v":false},null,{"$f":"IF(B5=1,TRUE,FALSE)","v":false},{"$f":"IF(B5=1,TRUE,FALSE)","v":false},{"$f":"IF(B5=2,TRUE,FALSE)","v":false},{"$f":"IF(B5=2,TRUE,FALSE)","v":false},{"$f":"IF(B5=3,TRUE,FALSE)","v":false},{"$f":"IF(B5=3,TRUE,FALSE)","v":false},null,{"$f":"IF(B6=1,TRUE,FALSE)","v":false},{"$f":"IF(B6=1,TRUE,FALSE)","v":false},{"$f":"IF(B6=1,TRUE,FALSE)","v":false},{"$f":"IF(B6=1,TRUE,FALSE)","v":false},{"$f":"IF(B6=1,TRUE,FALSE)","v":false},{"$f":"IF(B6=1,TRUE,FALSE)","v":false},{"$nulls":8},{"$f":"AND(S28=TRUE,Z28=TRUE,AG28=TRUE,AN28=TRUE)","v":false},{"$f":"AND(T28=TRUE,AA28=TRUE,AH28=TRUE,AO28=TRUE)","v":false},{"$f":"AND(U28=TRUE,AB28=TRUE,AI28=TRUE,AP28=TRUE)","v":false},{"$f":"AND(V28=TRUE,AC28=TRUE,AJ28=TRUE,AQ28=TRUE)","v":false},{"$f":"AND(W28=TRUE,AD28=TRUE,AK28=TRUE,AR28=TRUE)","v":false},{"$f":"AND(X28=TRUE,AE28=TRUE,AL28=TRUE,AS28=TRUE)","v":false},null,false,false,false,false,false,false,null,{"$f":"IFERROR(INDEX(BI28:BN28,MATCH(TRUE,TRANSPOSE(BB28:BG28),0)),\"\")","v":""}]
[{"$nulls":10},"POS TOL FIXED THD","N/A","N/A",0.118,0.048,0.091,0.006,null,{"$f":"AND(B2=1,B4=4)","v":false},{"$f":"AND(B2=1,B4=4)","v":false},{"$f":"AND(B2=1,B4=4)","v":false},{"$f":"AND(B2=1,B4=4)","v":false},{"$f":"AND(B2=1,B4=4)","v":false},{"$f":"AND(B2=1,B4=4)","v":false},null,{"$f":"IF(B3=1,TRUE,FALSE)","v":false},{"$f":"IF(B3=2,TRUE,FALSE)","v":false},{"$f":"IF(B3=1,TRUE,FALSE)","v":false},{"$f":"IF(B3=2,TRUE,FALSE)","v":false},{"$f":"IF(B3=1,TRUE,FALSE)","v":false},{"$f":"IF(B3=2,TRUE,FALSE)","v":false},null,{"$f":"IF(B5=1,TRUE,FALSE)","v":false},{"$f":"IF(B5=1,TRUE,FALSE)","v":false},{"$f":"IF(B5=2,TRUE,FALSE)","v":false},{"$f":"IF(B5=2,TRUE,FALSE)","v":false},{"$f":"IF(B5=3,TRUE,FALSE)","v":false},{"$f":"IF(B5=3,TRUE,FALSE)","v":false},null,{"$f":"IF(B6=2,TRUE,FALSE)","v":false},{"$f":"IF(B6=2,TRUE,FALSE)","v":false},{"$f":"IF(B6=2,TRUE,FALSE)","v":false},{"$f":"IF(B6=2,TRUE,FALSE)","v":false},{"$f":"IF(B6=2,TRUE,FALSE)","v":false},{"$f":"IF(B6=2,TRUE,FALSE)","v":false},{"$nulls":8},{"$f":"AND(S29=TRUE,Z29=TRUE,AG29=TRUE,AN29=TRUE)","v":false},false,false,false,false,false,null,false,false,false,false,false,false,null,{"$f":"IFERROR(INDEX(BI29:BN29,MATCH(TRUE,TRANSPOSE(BB29:BG29),0)),\"\")","v":""}]
[{"$nulls":10},"POS TOL FIXED CLR",0.063,0.098,0.042,0.011,0.074,0.085,null,{"$f":"AND(B2=1,B4=4)","v":false},{"$f":"AND(B2=1,B4=4)","v":false},{"$f":"AND(B2=1,B4=4)","v":false},{"$f":"AND(B2=1,B4=4)","v":false},{"$f":"AND(B2=1,B4=4)","v":false},{"$f":"AND(B2=1,B4=4)","v":false},null,{"$f":"IF(B3=1,TRUE,FALSE)","v":false},{"$f":"IF(B3=2,TRUE,FALSE)","v":false},{"$f":"IF(B3=1,TRUE,FALSE)","v":false},{"$f":"IF(B3=2,TRUE,FALSE)","v":false},{"$f":"IF(B3=1,TRUE,FALSE)","v":false},{"$f":"IF(B3=2,TRUE,FALSE)","v":false},null,{"$f":"IF(B5=1,TRUE,FALSE)","v":false},{"$f":"IF(B5=1,TRUE,FALSE)","v":false},{"$f":"IF(B5=2,TRUE,FALSE)","v":false},{"$f":"IF(B5=2,TRUE,FALSE)","v":false},{"$f":"IF(B5=3,TRUE,FALSE)","v":false},{"$f":"IF(B5=3,TRUE,FALSE)","v":false},null,{"$f":"IF(B6=3,TRUE,FALSE)","v":false},{"$f":"IF(B6=3,TRUE,FALSE)","v":false},{"$f":"IF(B6=3,TRUE,FALSE)","v":false},{"$f":"IF(B6=3,TRUE,FALSE)","v":false},{"$f":"IF(B6=3,TRUE,FALSE)","v":false},{"$f":"IF(B6=3,TRUE,FALSE)","v":false},{"$nulls":8},false,false,false,false,false,false,null,false,false,false,false,false,false,null,{"$f":"IFERROR(INDEX(BI30:BN30,MATCH(TRUE,TRANSPOSE(BB30:BG30),0)),\"\")","v":""}]
[{"$nulls":10},"C-SINK DIA @ 100 DEG",0.092,0.004,0.014,0.056,0.086,0.071,null,{"$f":"AND(B2=1,B4=4)","v":false},{"$f":"AND(B2=1,B4=4)","v":false},{"$f":"AND(B2=1,B4=4)","v":false},{"$f":"AND(B2=1,B4=4)","v":false},{"$f":"AND(B2=1,B4=4)","v":false},{"$f":"AND(B2=1,B4=4)","v":false},null,{"$f":"IF(B3=1,TRUE,FALSE)","v":false},{"$f":"IF(B3=2,TRUE,FALSE)","v":false},{"$f":"IF(B3=1,TRUE,FALSE)","v":false},{"$f":"IF(B3=2,TRUE,FALSE)","v":false},{"$f":"IF(B3=1,TRUE,FALSE)","v":false},{"$f":"IF(B3=2,TRUE,FALSE)","v":false},null,{"$f":"IF(B5=1,TRUE,FALSE)","v":false},{"$f":"IF(B5=1,TRUE,FALSE)","v":false},{"$f":"IF(B5=2,TRUE,FALSE)","v":false},{"$f":"IF(B5=2,TRUE,FALSE)","v":false},{"$f":"IF(B5=3,TRUE,FALSE)","v":false},{"$f":"IF(B5=3,TRUE,FALSE)","v":false},{"$nulls":8},{"$f":"IF(B7=2,TRUE,FALSE)","v":false},{"$f":"IF(B7=2,TRUE,FALSE)","v":false},{"$f":"IF(B7=2,TRUE,FALSE)","v":false},{"$f":"IF(B7=2,TRUE,FALSE)","v":false},{"$f":"IF(B7=2,TRUE,FALSE)","v":false},{"$f":"IF(B7=2,TRUE,FALSE)","v":false},null,{"$f":"AND(S31=TRUE,Z31=TRUE,AG31=TRUE,AU31=TRUE)","v":false},{"$f":"AND(T31=TRUE,AA31=TRUE,AH31=TRUE,AV31=TRUE)","v":false},{"$f":"AND(U31=TRUE,AB31=TRUE,AI31=TRUE,AW31=TRUE)","v":false},{"$f":"AND(V31=TRUE,AC31=TRUE,AJ31=TRUE,AX31=TRUE)","v":false},{"$f":"AND(W31=TRUE,AD31=TRUE,AK31=TRUE,AY31=TRUE)","v":false},{"$f":"AND(X31=TRUE,AE31=TRUE,AL31=TRUE,AZ31=TRUE)","v":false},null,false,false,false,false,false,false,null,{"$f":"IFERROR(INDEX(BI31:BN31,MATCH(TRUE,TRANSPOSE(BB31:BG31),0)),\"\")","v":""}]
[{"$nulls":8},5,".250(1/4)","HOLE LIMIT MAX",0.083,0.079,0.064,0.018,0.101,0.019,null,{"$f":"AND(B2=1,B4=5)","v":false},{"$f":"AND(B2=1,B4=5)","v":false},{"$f":"AND(B2=1,B4=5)","v":false},{"$f":"AND(B2=1,B4=5)","v":false},{"$f":"AND(B2=1,B4=5)","v":false},{"$f":"AND(B2=1,B4=5)","v":false},null,{"$f":"IF(B3=1,TRUE,FALSE)","v":false},{"$f":"IF(B3=2,TRUE,FALSE)","v":false},{"$f":"IF(B3=1,TRUE,FALSE)","v":false},{"$f":"IF(B3=2,TRUE,FALSE)","v":false},{"$f":"IF(B3=1,TRUE,FALSE)","v":false},{"$f":"IF(B3=2,TRUE,FALSE)","v":false},null,{"$f":"IF(B5=1,TRUE,FALSE)","v":false},{"$f":"IF(B5=1,TRUE,FALSE)","v":false},{"$f":"IF(B5=2,TRUE,FALSE)","v":false},{"$f":"IF(B5=2,TRUE,FALSE)","v":false},{"$f":"IF(B5=3,TRUE,FALSE)","v":false},{"$f":"IF(B5=3,TRUE,FALSE)","v":false},{"$nulls":15},{"$f":"AND(S32=TRUE,Z32=TRUE,AG32=TRUE)","v":false},{"$f":"AND(T32=TRUE,AA32=TRUE,AH32=TRUE)","v":false},{"$f":"AND(U32=TRUE,AB32=TRUE,AI32=TRUE)","v":false},{"$f":"AND(V32=TRUE,AC32=TRUE,AJ32=TRUE)","v":false},{"$f":"AND(W32=TRUE,AD32=TRUE,AK32=TRUE)","v":false},{"$f":"AND(X32=TRUE,AE32=TRUE,AL32=TRUE)","v":false},null,false,false,false,false,false,false,null,{"$f":"IFERROR(INDEX(BI32:BN32,MATCH(TRUE,TRANSPOSE(BB32:BG32),0)),\"\")","v":""}]
[{"$nulls":10},"HOLE LIMIT MIN",0.111,0.085,0.097,0.059,0.032,0.004,null,{"$f":"AND(B2=1,B4=5)","v":false},{"$f":"AND(B2=1,B4=5)","v":false},{"$f":"AND(B2=1,B4=5)","v":false},{"$f":"AND(B2=1,B4=5)","v":false},{"$f":"AND(B2=1,B4=5)","v":false},{"$f":"AND(B2=1,B4=5)","v":false},null,{"$f":"IF(B3=1,TRUE,FALSE)","v":false},{"$f":"IF(B3=2,TRUE,FALSE)","v":false},{"$f":"IF(B3=1,TRUE,FALSE)","v":false},{"$f":"IF(B3=2,TRUE,FALSE)","v":false},{"$f":"IF(B3=1,TRUE,FALSE)","v":false},{"$f":"IF(B3=2,TRUE,FALSE)","v":false},null,{"$f":"IF(B5=1,TRUE,FALSE)","v":false},{"$f":"IF(B5=1,TRUE,FALSE)","v":false},{"$f":"IF(B5=2,TRUE,FALSE)","v":false},{"$f":"IF(B5=2,TRUE,FALSE)","v":false},{"$f":"IF(B5=3,TRUE,FALSE)","v":false},{"$f":"IF(B5=3,TRUE,FALSE)","v":false},{"$nulls":15},{"$f":"AND(S33=TRUE,Z33=TRUE,AG33=TRUE)","v":false},false,false,false,false,false,null,false,false,false,false,false,false,null,{"$f":"IFERROR(INDEX(BI33:BN33,MATCH(TRUE,TRANSPOSE(BB33:BG33),0)),\"\")","v":""}]
[{"$nulls":10},"MODEL TO DIAMETER",0.025,0.017,0.1,0.02,0.081,0.046,null,{"$f":"AND(B2=1,B4=5)","v":false},{"$f":"AND(B2=1,B4=5)","v":false},{"$f":"AND(B2=1,B4=5)","v":false},{"$f":"AND(B2=1,B4=5)","v":false},{"$f":"AND(B2=1,B4=5)","v":false},{"$f":"AND(B2=1,B4=5)","v":false},null,{"$f":"IF(B3=1,TRUE,FALSE)","v":false},{"$f":"IF(B3=2,TRUE,FALSE)","v":false},{"$f":"IF(B3=1,TRUE,FALSE)","v":false},{"$f":"IF(B3=2,TRUE,FALSE)","v":false},{"$f":"IF(B3=1,TRUE,FALSE)","v":false},{"$f":"IF(B3=2,TRUE,FALSE)","v":false},null,{"$f":"IF(B5=1,TRUE,FALSE)","v":false},{"$f":"IF(B5=1,TRUE,FALSE)","v":false},{"$f":"IF(B5=2,TRUE,FALSE)","v":false},{"$f":"IF(B5=2,TRUE,FALSE)","v":false},{"$f":"IF(B5=3,TRUE,FALSE)","v":false},{"$f":"IF(B5=3,TRUE,FALSE)","v":false},{"$nulls":15},{"$f":"AND(S34=TRUE,Z34=TRUE,AG34=TRUE)","v":false},false,false,false,false,false,null,false,false,false,false,false,false,null,{"$f":"IFERROR(INDEX(BI34:BN34,MATCH(TRUE,TRANSPOSE(BB34:BG34),0)),\"\")","v":""}]
[{"$nulls":10},"POS TOL FLOATING",0.091,2E-3,0.078,0.123,0.109,0.041,null,{"$f":"AND(B2=1,B4=5)","v":false},{"$f":"AND(B2=1,B4=5)","v":false},{"$f":"AND(B2=1,B4=5)","v":false},{"$f":"AND(B2=1,B4=5)","v":false},{"$f":"AND(B2=1,B4=5)","v":false},{"$f":"AND(B2=1,B4=5)","v":false},null,{"$f":"IF(B3=1,TRUE,FALSE)","v":false},{"$f":"IF(B3=2,TRUE,FALSE)","v":false},{"$f":"IF(B3=1,TRUE,FALSE)","v":false},{"$f":"IF(B3=2,TRUE,FALSE)","v":false},{"$f":"IF(B3=1,TRUE,FALSE)","v":false},{"$f":"IF(B3=2,TRUE,FALSE)","v":false},null,{"$f":"IF(B5=1,TRUE,FALSE)","v":false},{"$f":"IF(B5=1,TRUE,FALSE)","v":false},{"$f":"IF(B5=2,TRUE,FALSE)","v":false},{"$f":"IF(B5=2,TRUE,FALSE)","v":false},{"$f":"IF(B5=3,TRUE,FALSE)","v":false},{"$f":"IF(B5=3,TRUE,FALSE)","v":false},null,{"$f":"IF(B6=1,TRUE,FALSE)","v":false},{"$f":"IF(B6=1,TRUE,FALSE)","v":false},{"$f":"IF(B6=1,TRUE,FALSE)","v":false},{"$f":"IF(B6=1,TRUE,FALSE)","v":false},{"$f":"IF(B6=1,TRUE,FALSE)","v":false},{"$f":"IF(B6=1,TRUE,FALSE)","v":false},{"$nulls":8},{"$f":"AND(S35=TRUE,Z35=TRUE,AG35=TRUE,AN35=TRUE)","v":false},{"$f":"AND(T35=TRUE,AA35=TRUE,AH35=TRUE,AO35=TRUE)","v":false},{"$f":"AND(U35=TRUE,AB35=TRUE,AI35=TRUE,AP35=TRUE)","v":false},{"$f":"AND(V35=TRUE,AC35=TRUE,AJ35=TRUE,AQ35=TRUE)","v":false},{"$f":"AND(W35=TRUE,AD35=TRUE,AK35=TRUE,AR35=TRUE)","v":false},{"$f":"AND(X35=TRUE,AE35=TRUE,AL35=TRUE,AS35=TRUE)","v":false},null,false,false,false,false,false,false,null,{"$f":"IFERROR(INDEX(BI35:BN35,MATCH(TRUE,TRANSPOSE(BB35:BG35),0)),\"\")","v":""}]
[{"$nulls":10},"POS TOL FIXED THD","N/A","N/A",0.034,0.055,0.112,0.098,null,{"$f":"AND(B2=1,B4=5)","v":false},{"$f":"AND(B2=1,B4=5)","v":false},{"$f":"AND(B2=1,B4=5)","v":false},{"$f":"AND(B2=1,B4=5)","v":false},{"$f":"AND(B2=1,B4=5)","v":false},{"$f":"AND(B2=1,B4=5)","v":false},null,{"$f":"IF(B3=1,TRUE,FALSE)","v":false},{"$f":"IF(B3=2,TRUE,FALSE)","v":false},{"$f":"IF(B3=1,TRUE,FALSE)","v":false},{"$f":"IF(B3=2,TRUE,FALSE)","v":false},{"$f":"IF(B3=1,TRUE,FALSE)","v":false},{"$f":"IF(B3=2,TRUE,FALSE)","v":false},null,{"$f":"IF(B5=1,TRUE,FALSE)","v":false},{"$f":"IF(B5=1,TRUE,FALSE)","v":false},{"$f":"IF(B5=2,TRUE,FALSE)","v":false},{"$f":"IF(B5=2,TRUE,FALSE)","v":false},{"$f":"IF(B5=3,TRUE,FALSE)","v":false},{"$f":"IF(B5=3,TRUE,FALSE)","v":false},null,{"$f":"IF(B6=2,TRUE,FALSE)","v":false},{"$f":"IF(B6=2,TRUE,FALSE)","v":false},{"$f":"IF(B6=2,TRUE,FALSE)","v":false},{"$f":"IF(B6=2,TRUE,FALSE)","v":false},{"$f":"IF(B6=2,TRUE,FALSE)","v":false},{"$f":"IF(B6=2,TRUE,FALSE)","v":false},{"$nulls":8},{"$f":"AND(S36=TRUE,Z36=TRUE,AG36=TRUE,AN36=TRUE)","v":false},false,false,false,false,false,null,false,false,false,false,false,false,null,{"$f":"IFERROR(INDEX(BI36:BN36,MATCH(TRUE,TRANSPOSE(BB36:BG36),0)),\"\")","v":""}]
[{"$nulls":10},"POS TOL FIXED CLR",0.08,0.066,0.006,0.092,0.083,0.075,null,{"$f":"AND(B2=1,B4=5)","v":false},{"$f":"AND(B2=1,B4=5)","v":false},{"$f":"AND(B2=1,B4=5)","v":false},{"$f":"AND(B2=1,B4=5)","v":false},{"$f":"AND(B2=1,B4=5)","v":false},{"$f":"AND(B2=1,B4=5)","v":false},null,{"$f":"IF(B3=1,TRUE,FALSE)","v":false},{"$f":"IF(B3=2,TRUE,FALSE)","v":false},{"$f":"IF(B3=1,TRUE,FALSE)","v":false},{"$f":"IF(B3=2,TRUE,FALSE)","v":false},{"$f":"IF(B3=1,TRUE,FALSE)","v":false},{"$f":"IF(B3=2,TRUE,FALSE)","v":false},null,{"$f":"IF(B5=1,TRUE,FALSE)","v":false},{"$f":"IF(B5=1,TRUE,FALSE)","v":false},{"$f":"IF(B5=2,TRUE,FALSE)","v":false},{"$f":"IF(B5=2,TRUE,FALSE)","v":false},{"$f":"IF(B5=3,TRUE,FALSE)","v":false},{"$f":"IF(B5=3,TRUE,FALSE)","v":false},null,{"$f":"IF(B6=3,TRUE,FALSE)","v":false},{"$f":"IF(B6=3,TRUE,FALSE)","v":false},{"$f":"IF(B6=3,TRUE,FALSE)","v":false},{"$f":"IF(B6=3,TRUE,FALSE)","v":false},{"$f":"IF(B6=3,TRUE,FALSE)","v":false},{"$f":"IF(B6=3,TRUE,FALSE)","v":false},{"$nulls":8},false,false,false,false,false,false,null,false,false,false,false,false,false,null,{"$f":"IFERROR(INDEX(BI37:BN37,MATCH(TRUE,TRANSPOSE(BB37:BG37),0)),\"\")","v":""}]
[{"$nulls":10},"C-SINK DIA @ 100 DEG",0.072,0.114,0.02,0.085,0.12,0.014,null,{"$f":"AND(B2=1,B4=5)","v":false},{"$f":"AND(B2=1,B4=5)","v":false},{"$f":"AND(B2=1,B4=5)","v":false},{"$f":"AND(B2=1,B4=5)","v":false},{"$f":"AND(B2=1,B4=5)","v":false},{"$f":"AND(B2=1,B4=5)","v":false},null,{"$f":"IF(B3=1,TRUE,FALSE)","v":false},{"$f":"IF(B3=2,TRUE,FALSE)","v":false},{"$f":"IF(B3=1,TRUE,FALSE)","v":false},{"$f":"IF(B3=2,TRUE,FALSE)","v":false},{"$f":"IF(B3=1,TRUE,FALSE)","v":false},{"$f":"IF(B3=2,TRUE,FALSE)","v":false},null,{"$f":"IF(B5=1,TRUE,FALSE)","v":false},{"$f":"IF(B5=1,TRUE,FALSE)","v":false},{"$f":"IF(B5=2,TRUE,FALSE)","v":false},{"$f":"IF(B5=2,TRUE,FALSE)","v":false},{"$f":"IF(B5=3,TRUE,FALSE)","v":false},{"$f":"IF(B5=3,TRUE,FALSE)","v":false},{"$nulls":8},{"$f":"IF(B7=2,TRUE,FALSE)","v":false},{"$f":"IF(B7=2,TRUE,FALSE)","v":false},{"$f":"IF(B7=2,TRUE,FALSE)","v":false},{"$f":"IF(B7=2,TRUE,FALSE)","v":false},{"$f":"IF(B7=2,TRUE,FALSE)","v":false},{"$f":"IF(B7=2,TRUE,FALSE)","v":false},null,{"$f":"AND(S38=TRUE,Z38=TRUE,AG38=TRUE,AU38=TRUE)","v":false},{"$f":"AND(T38=TRUE,AA38=TRUE,AH38=TRUE,AV38=TRUE)","v":false},{"$f":"AND(U38=TRUE,AB38=TRUE,AI38=TRUE,AW38=TRUE)","v":false},{"$f":"AND(V38=TRUE,AC38=TRUE,AJ38=TRUE,AX38=TRUE)","v":false},{"$f":"AND(W38=TRUE,AD38=TRUE,AK38=TRUE,AY38=TRUE)","v":false},{"$f":"AND(X38=TRUE,AE38=TRUE,AL38=TRUE,AZ38=TRUE)","v":false},null,false,false,false,false,false,false,null,{"$f":"IFERROR(INDEX(BI38:BN38,MATCH(TRUE,TRANSPOSE(BB38:BG38),0)),\"\")","v":""}]
[{"$nulls":8},6,".3125(5/16)","HOLE LIMIT MAX",0.039,0.009,0.101,0.069,0.061,0.028,null,{"$f":"AND(B2=1,B4=6)","v":false},{"$f":"AND(B2=1,B4=6)","v":false},{"$f":"AND(B2=1,B4=6)","v":false},{"$f":"AND(B2=1,B4=6)","v":false},{"$f":"AND(B2=1,B4=6)","v":false},{"$f":"AND(B2=1,B4=6)","v":false},null,{"$f":"IF(B3=1,TRUE,FALSE)","v":false},{"$f":"IF(B3=2,TRUE,FALSE)","v":false},{"$f":"IF(B3=1,TRUE,FALSE)","v":false},{"$f":"IF(B3=2,TRUE,FALSE)","v":false},{"$f":"IF(B3=1,TRUE,FALSE)","v":false},{"$f":"IF(B3=2,TRUE,FALSE)","v":false},null,{"$f":"IF(B5=1,TRUE,FALSE)","v":false},{"$f":"IF(B5=1,TRUE,FALSE)","v":false},{"$f":"IF(B5=2,TRUE,FALSE)","v":false},{"$f":"IF(B5=2,TRUE,FALSE)","v":false},{"$f":"IF(B5=3,TRUE,FALSE)","v":false},{"$f":"IF(B5=3,TRUE,FALSE)","v":false},{"$nulls":15},{"$f":"AND(S39=TRUE,Z39=TRUE,AG39=TRUE)","v":false},{"$f":"AND(T39=TRUE,AA39=TRUE,AH39=TRUE)","v":false},{"$f":"AND(U39=TRUE,AB39=TRUE,AI39=TRUE)","v":false},{"$f":"AND(V39=TRUE,AC39=TRUE,AJ39=TRUE)","v":false},{"$f":"AND(W39=TRUE,AD39=TRUE,AK39=TRUE)","v":false},{"$f":"AND(X39=TRUE,AE39=TRUE,AL39=TRUE)","v":false},null,false,false,false,false,false,false,null,{"$f":"IFERROR(INDEX(BI39:BN39,MATCH(TRUE,TRANSPOSE(BB39:BG39),0)),\"\")","v":""}]
[{"$nulls":10},"HOLE LIMIT MIN",0.12,0.044,0.071,0.04,0.029,0.062,null,{"$f":"AND(B2=1,B4=6)","v":false},{"$f":"AND(B2=1,B4=6)","v":false},{"$f":"AND(B2=1,B4=6)","v":false},{"$f":"AND(B2=1,B4=6)","v":false},{"$f":"AND(B2=1,B4=6)","v":false},{"$f":"AND(B2=1,B4=6)","v":false},null,{"$f":"IF(B3=1,TRUE,FALSE)","v":false},{"$f":"IF(B3=2,TRUE,FALSE)","v":false},{"$f":"IF(B3=1,TRUE,FALSE)","v":false},{"$f":"IF(B3=2,TRUE,FALSE)","v":false},{"$f":"IF(B3=1,TRUE,FALSE)","v":false},{"$f":"IF(B3=2,TRUE,FALSE)","v":false},null,{"$f":"IF(B5=1,TRUE,FALSE)","v":false},{"$f":"IF(B5=1,TRUE,FALSE)","v":false},{"$f":"IF(B5=2,TRUE,FALSE)","v":false},{"$f":"IF(B5=2,TRUE,FALSE)","v":false},{"$f":"IF(B5=3,TRUE,FALSE)","v":false},{"$f":"IF(B5=3,TRUE,FALSE)","v":false},{"$nulls":15},{"$f":"AND(S40=TRUE,Z40=TRUE,AG40=TRUE)","v":false},false,false,false,false,false,null,false,false,false,false,false,false,null,{"$f":"IFERROR(INDEX(BI40:BN40,MATCH(TRUE,TRANSPOSE(BB40:BG40),0)),\"\")","v":""}]
[{"$nulls":10},"MODEL TO DIAMETER",0.074,0.022,0.113,0.123,0.009,0.111,null,{"$f":"AND(B2=1,B4=6)","v":false},{"$f":"AND(B2=1,B4=6)","v":false},{"$f":"AND(B2=1,B4=6)","v":false},{"$f":"AND(B2=1,B4=6)","v":false},{"$f":"AND(B2=1,B4=6)","v":false},{"$f":"AND(B2=1,B4=6)","v":false},null,{"$f":"IF(B3=1,TRUE,FALSE)","v":false},{"$f":"IF(B3=2,TRUE,FALSE)","v":false},{"$f":"IF(B3=1,TRUE,FALSE)","v":false},{"$f":"IF(B3=2,TRUE,FALSE)","v":false},{"$f":"IF(B3=1,TRUE,FALSE)","v":false},{"$f":"IF(B3=2,TRUE,FALSE)","v":false},null,{"$f":"IF(B5=1,TRUE,FALSE)","v":false},{"$f":"IF(B5=1,TRUE,FALSE)","v":false},{"$f":"IF(B5=2,TRUE,FALSE)","v":false},{"$f":"IF(B5=2,TRUE,FALSE)","v":false},{"$f":"IF(B5=3,TRUE,FALSE)","v":false},{"$f":"IF(B5=3,TRUE,FALSE)","v":false},{"$nulls":15},{"$f":"AND(S41=TRUE,Z41=TRUE,AG41=TRUE)","v":false},false,false,false,false,false,null,false,false,false,false,false,false,null,{"$f":"IFERROR(INDEX(BI41:BN41,MATCH(TRUE,TRANSPOSE(BB41:BG41),0)),\"\")","v":""}]
[{"$nulls":10},"POS TOL FLOATING",0.087,0.017,0.003,0.042,0.109,0.08,null,{"$f":"AND(B2=1,B4=6)","v":false},{"$f":"AND(B2=1,B4=6)","v":false},{"$f":"AND(B2=1,B4=6)","v":false},{"$f":"AND(B2=1,B4=6)","v":false},{"$f":"AND(B2=1,B4=6)","v":false},{"$f":"AND(B2=1,B4=6)","v":false},null,{"$f":"IF(B3=1,TRUE,FALSE)","v":false},{"$f":"IF(B3=2,TRUE,FALSE)","v":false},{"$f":"IF(B3=1,TRUE,FALSE)","v":false},{"$f":"IF(B3=2,TRUE,FALSE)","v":false},{"$f":"IF(B3=1,TRUE,FALSE)","v":false},{"$f":"IF(B3=2,TRUE,FALSE)","v":false},null,{"$f":"IF(B5=1,TRUE,FALSE)","v":false},{"$f":"IF(B5=1,TRUE,FALSE)","v":false},{"$f":"IF(B5=2,TRUE,FALSE)","v":false},{"$f":"IF(B5=2,TRUE,FALSE)","v":false},{"$f":"IF(B5=3,TRUE,FALSE)","v":false},{"$f":"IF(B5=3,TRUE,FALSE)","v":false},null,{"$f":"IF(B6=1,TRUE,FALSE)","v":false},{"$f":"IF(B6=1,TRUE,FALSE)","v":false},{"$f":"IF(B6=1,TRUE,FALSE)","v":false},{"$f":"IF(B6=1,TRUE,FALSE)","v":false},{"$f":"IF(B6=1,TRUE,FALSE)","v":false},{"$f":"IF(B6=1,TRUE,FALSE)","v":false},{"$nulls":8},{"$f":"AND(S42=TRUE,Z42=TRUE,AG42=TRUE,AN42=TRUE)","v":false},{"$f":"AND(T42=TRUE,AA42=TRUE,AH42=TRUE,AO42=TRUE)","v":false},{"$f":"AND(U42=TRUE,AB42=TRUE,AI42=TRUE,AP42=TRUE)","v":false},{"$f":"AND(V42=TRUE,AC42=TRUE,AJ42=TRUE,AQ42=TRUE)","v":false},{"$f":"AND(W42=TRUE,AD42=TRUE,AK42=TRUE,AR42=TRUE)","v":false},{"$f":"AND(X42=TRUE,AE42=TRUE,AL42=TRUE,AS42=TRUE)","v":false},null,false,false,false,false,false,false,null,{"$f":"IFERROR(INDEX(BI42:BN42,MATCH(TRUE,TRANSPOSE(BB42:BG42),0)),\"\")","v":""}]
[{"$nulls":10},"POS TOL FIXED THD","N/A","N/A",0.012,0.059,0.076,0.07,null,{"$f":"AND(B2=1,B4=6)","v":false},{"$f":"AND(B2=1,B4=6)","v":false},{"$f":"AND(B2=1,B4=6)","v":false},{"$f":"AND(B2=1,B4=6)","v":false},{"$f":"AND(B2=1,B4=6)","v":false},{"$f":"AND(B2=1,B4=6)","v":false},null,{"$f":"IF(B3=1,TRUE,FALSE)","v":false},{"$f":"IF(B3=2,TRUE,FALSE)","v":false},{"$f":"IF(B3=1,TRUE,FALSE)","v":false},{"$f":"IF(B3=2,TRUE,FALSE)","v":false},{"$f":"IF(B3=1,TRUE,FALSE)","v":false},{"$f":"IF(B3=2,TRUE,FALSE)","v":false},null,{"$f":"IF(B5=1,TRUE,FALSE)","v":false},{"$f":"IF(B5=1,TRUE,FALSE)","v":false},{"$f":"IF(B5=2,TRUE,FALSE)","v":false},{"$f":"IF(B5=2,TRUE,FALSE)","v":false},{"$f":"IF(B5=3,TRUE,FALSE)","v":false},{"$f":"IF(B5=3,TRUE,FALSE)","v":false},null,{"$f":"IF(B6=2,TRUE,FALSE)","v":false},{"$f":"IF(B6=2,TRUE,FALSE)","v":false},{"$f":"IF(B6=2,TRUE,FALSE)","v":false},{"$f":"IF(B6=2,TRUE,FALSE)","v":false},{"$f":"IF(B6=2,TRUE,FALSE)","v":false},{"$f":"IF(B6=2,TRUE,FALSE)","v":false},{"$nulls":8},{"$f":"AND(S43=TRUE,Z43=TRUE,AG43=TRUE,AN43=TRUE)","v":false},false,false,false,false,false,null,false,false,false,false,false,false,null,{"$f":"IFERROR(INDEX(BI43:BN43,MATCH(TRUE,TRANSPOSE(BB43:BG43),0)),\"\")","v":""}]
[{"$nulls":10},"POS TOL FIXED CLR",0.115,0.007,0.098,0.005,0.115,0.048,null,{"$f":"AND(B2=1,B4=6)","v":false},{"$f":"AND(B2=1,B4=6)","v":false},{"$f":"AND(B2=1,B4=6)","v":false},{"$f":"AND(B2=1,B4=6)","v":false},{"$f":"AND(B2=1,B4=6)","v":false},{"$f":"AND(B2=1,B4=6)","v":false},null,{"$f":"IF(B3=1,TRUE,FALSE)","v":false},{"$f":"IF(B3=2,TRUE,FALSE)","v":false},{"$f":"IF(B3=1,TRUE,FALSE)","v":false},{"$f":"IF(B3=2,TRUE,FALSE)","v":false},{"$f":"IF(B3=1,TRUE,FALSE)","v":false},{"$f":"IF(B3=2,TRUE,FALSE)","v":false},null,{"$f":"IF(B5=1,TRUE,FALSE)","v":false},{"$f":"IF(B5=1,TRUE,FALSE)","v":false},{"$f":"IF(B5=2,TRUE,FALSE)","v":false},{"$f":"IF(B5=2,TRUE,FALSE)","v":false},{"$f":"IF(B5=3,TRUE,FALSE)","v":false},{"$f":"IF(B5=3,TRUE,FALSE)","v":false},null,{"$f":"IF(B6=3,TRUE,FALSE)","v":false},{"$f":"IF(B6=3,TRUE,FALSE)","v":false},{"$f":"IF(B6=3,TRUE,FALSE)","v":false},{"$f":"IF(B6=3,TRUE,FALSE)","v":false},{"$f":"IF(B6=3,TRUE,FALSE)","v":false},{"$f":"IF(B6=3,TRUE,FALSE)","v":false},{"$nulls":8},false,false,false,false,false,false,null,false,false,false,false,false,false,null,{"$f":"IFERROR(INDEX(BI44:BN44,MATCH(TRUE,TRANSPOSE(BB44:BG44),0)),\"\")","v":""}]
[{"$nulls":10},"C-SINK DIA @ 100 DEG",0.004,0.1,0.067,0.116,0.034,0.123,null,{"$f":"AND(B2=1,B4=6)","v":false},{"$f":"AND(B2=1,B4=6)","v":false},{"$f":"AND(B2=1,B4=6)","v":false},{"$f":"AND(B2=1,B4=6)","v":false},{"$f":"AND(B2=1,B4=6)","v":false},{"$f":"AND(B2=1,B4=6)","v":false},null,{"$f":"IF(B3=1,TRUE,FALSE)","v":false},{"$f":"IF(B3=2,TRUE,FALSE)","v":false},{"$f":"IF(B3=1,TRUE,FALSE)","v":false},{"$f":"IF(B3=2,TRUE,FALSE)","v":false},{"$f":"IF(B3=1,TRUE,FALSE)","v":false},{"$f":"IF(B3=2,TRUE,FALSE)","v":false},null,{"$f":"IF(B5=1,TRUE,FALSE)","v":false},{"$f":"IF(B5=1,TRUE,FALSE)","v":false},{"$f":"IF(B5=2,TRUE,FALSE)","v":false},{"$f":"IF(B5=2,TRUE,FALSE)","v":false},{"$f":"IF(B5=3,TRUE,FALSE)","v":false},{"$f":"IF(B5=3,TRUE,FALSE)","v":false},{"$nulls":8},{"$f":"IF(B7=2,TRUE,FALSE)","v":false},{"$f":"IF(B7=2,TRUE,FALSE)","v":false},{"$f":"IF(B7=2,TRUE,FALSE)","v":false},{"$f":"IF(B7=2,TRUE,FALSE)","v":false},{"$f":"IF(B7=2,TRUE,FALSE)","v":false},{"$f":"IF(B7=2,TRUE,FALSE)","v":false},null,{"$f":"AND(S45=TRUE,Z45=TRUE,AG45=TRUE,AU45=TRUE)","v":false},{"$f":"AND(T45=TRUE,AA45=TRUE,AH45=TRUE,AV45=TRUE)","v":false},{"$f":"AND(U45=TRUE,AB45=TRUE,AI45=TRUE,AW45=TRUE)","v":false},{"$f":"AND(V45=TRUE,AC45=TRUE,AJ45=TRUE,AX45=TRUE)","v":false},{"$f":"AND(W45=TRUE,AD45=TRUE,AK45=TRUE,AY45=TRUE)","v":false},{"$f":"AND(X45=TRUE,AE45=TRUE,AL45=TRUE,AZ45=TRUE)","v":false},null,false,false,false,false,false,false,null,{"$f":"IFERROR(INDEX(BI45:BN45,MATCH(TRUE,TRANSPOSE(BB45:BG45),0)),\"\")","v":""}]
[{"$nulls":8},7,".375(3/8)","HOLE LIMIT MAX",0.096,0.038,0.026,0.119,0.079,0.083,null,{"$f":"AND(B2=1,B4=7)","v":false},{"$f":"AND(B2=1,B4=7)","v":false},{"$f":"AND(B2=1,B4=7)","v":false},{"$f":"AND(B2=1,B4=7)","v":false},{"$f":"AND(B2=1,B4=7)","v":false},{"$f":"AND(B2=1,B4=7)","v":false},null,{"$f":"IF(B3=1,TRUE,FALSE)","v":false},{"$f":"IF(B3=2,TRUE,FALSE)","v":false},{"$f":"IF(B3=1,TRUE,FALSE)","v":false},{"$f":"IF(B3=2,TRUE,FALSE)","v":false},{"$f":"IF(B3=1,TRUE,FALSE)","v":false},{"$f":"IF(B3=2,TRUE,FALSE)","v":false},null,{"$f":"IF(B5=1,TRUE,FALSE)","v":false},{"$f":"IF(B5=1,TRUE,FALSE)","v":false},{"$f":"IF(B5=2,TRUE,FALSE)","v":false},{"$f":"IF(B5=2,TRUE,FALSE)","v":false},{"$f":"IF(B5=3,TRUE,FALSE)","v":false},{"$f":"IF(B5=3,TRUE,FALSE)","v":false},{"$nulls":15},{"$f":"AND(S46=TRUE,Z46=TRUE,AG46=TRUE)","v":false},{"$f":"AND(T46=TRUE,AA46=TRUE,AH46=TRUE)","v":false},{"$f":"AND(U46=TRUE,AB46=TRUE,AI46=TRUE)","v":false},{"$f":"AND(V46=TRUE,AC46=TRUE,AJ46=TRUE)","v":false},{"$f":"AND(W46=TRUE,AD46=TRUE,AK46=TRUE)","v":false},{"$f":"AND(X46=TRUE,AE46=TRUE,AL46=TRUE)","v":false},null,false,false,false,false,false,false,null,{"$f":"IFERROR(INDEX(BI46:BN46,MATCH(TRUE,TRANSPOSE(BB46:BG46),0)),\"\")","v":""}]
[{"$nulls":10},"HOLE LIMIT MIN",0.115,0.007,0.098,0.005,0.115,0.048,null,{"$f":"AND(B2=1,B4=7)","v":false},{"$f":"AND(B2=1,B4=7)","v":false},{"$f":"AND(B2=1,B4=7)","v":false},{"$f":"AND(B2=1,B4=7)","v":false},{"$f":"AND(B2=1,B4=7)","v":false},{"$f":"AND(B2=1,B4=7)","v":false},null,{"$f":"IF(B3=1,TRUE,FALSE)","v":false},{"$f":"IF(B3=2,TRUE,FALSE)","v":false},{"$f":"IF(B3=1,TRUE,FALSE)","v":false},{"$f":"IF(B3=2,TRUE,FALSE)","v":false},{"$f":"IF(B3=1,TRUE,FALSE)","v":false},{"$f":"IF(B3=2,TRUE,FALSE)","v":false},null,{"$f":"IF(B5=1,TRUE,FALSE)","v":false},{"$f":"IF(B5=1,TRUE,FALSE)","v":false},{"$f":"IF(B5=2,TRUE,FALSE)","v":false},{"$f":"IF(B5=2,TRUE,FALSE)","v":false},{"$f":"IF(B5=3,TRUE,FALSE)","v":false},{"$f":"IF(B5=3,TRUE,FALSE)","v":false},{"$nulls":15},{"$f":"AND(S47=TRUE,Z47=TRUE,AG47=TRUE)","v":false},false,false,false,false,false,null,false,false,false,false,false,false,null,{"$f":"IFERROR(INDEX(BI47:BN47,MATCH(TRUE,TRANSPOSE(BB47:BG47),0)),\"\")","v":""}]
[{"$nulls":10},"MODEL TO DIAMETER",0.004,0.1,0.067,0.116,0.034,0.123,null,{"$f":"AND(B2=1,B4=7)","v":false},{"$f":"AND(B2=1,B4=7)","v":false},{"$f":"AND(B2=1,B4=7)","v":false},{"$f":"AND(B2=1,B4=7)","v":false},{"$f":"AND(B2=1,B4=7)","v":false},{"$f":"AND(B2=1,B4=7)","v":false},null,{"$f":"IF(B3=1,TRUE,FALSE)","v":false},{"$f":"IF(B3=2,TRUE,FALSE)","v":false},{"$f":"IF(B3=1,TRUE,FALSE)","v":false},{"$f":"IF(B3=2,TRUE,FALSE)","v":false},{"$f":"IF(B3=1,TRUE,FALSE)","v":false},{"$f":"IF(B3=2,TRUE,FALSE)","v":false},null,{"$f":"IF(B5=1,TRUE,FALSE)","v":false},{"$f":"IF(B5=1,TRUE,FALSE)","v":false},{"$f":"IF(B5=2,TRUE,FALSE)","v":false},{"$f":"IF(B5=2,TRUE,FALSE)","v":false},{"$f":"IF(B5=3,TRUE,FALSE)","v":false},{"$f":"IF(B5=3,TRUE,FALSE)","v":false},{"$nulls":15},{"$f":"AND(S48=TRUE,Z48=TRUE,AG48=TRUE)","v":false},false,false,false,false,false,null,false,false,false,false,false,false,null,{"$f":"IFERROR(INDEX(BI48:BN48,MATCH(TRUE,TRANSPOSE(BB48:BG48),0)),\"\")","v":""}]
[{"$nulls":10},"POS TOL FLOATING",0.096,0.038,0.026,0.119,0.079,0.083,null,{"$f":"AND(B2=1,B4=7)","v":false},{"$f":"AND(B2=1,B4=7)","v":false},{"$f":"AND(B2=1,B4=7)","v":false},{"$f":"AND(B2=1,B4=7)","v":false},{"$f":"AND(B2=1,B4=7)","v":false},{"$f":"AND(B2=1,B4=7)","v":false},null,{"$f":"IF(B3=1,TRUE,FALSE)","v":false},{"$f":"IF(B3=2,TRUE,FALSE)","v":false},{"$f":"IF(B3=1,TRUE,FALSE)","v":false},{"$f":"IF(B3=2,TRUE,FALSE)","v":false},{"$f":"IF(B3=1,TRUE,FALSE)","v":false},{"$f":"IF(B3=2,TRUE,FALSE)","v":false},null,{"$f":"IF(B5=1,TRUE,FALSE)","v":false},{"$f":"IF(B5=1,TRUE,FALSE)","v":false},{"$f":"IF(B5=2,TRUE,FALSE)","v":false},{"$f":"IF(B5=2,TRUE,FALSE)","v":false},{"$f":"IF(B5=3,TRUE,FALSE)","v":false},{"$f":"IF(B5=3,TRUE,FALSE)","v":false},null,{"$f":"IF(B6=1,TRUE,FALSE)","v":false},{"$f":"IF(B6=1,TRUE,FALSE)","v":false},{"$f":"IF(B6=1,TRUE,FALSE)","v":false},{"$f":"IF(B6=1,TRUE,FALSE)","v":false},{"$f":"IF(B6=1,TRUE,FALSE)","v":false},{"$f":"IF(B6=1,TRUE,FALSE)","v":false},{"$nulls":8},{"$f":"AND(S49=TRUE,Z49=TRUE,AG49=TRUE,AN49=TRUE)","v":false},{"$f":"AND(T49=TRUE,AA49=TRUE,AH49=TRUE,AO49=TRUE)","v":false},{"$f":"AND(U49=TRUE,AB49=TRUE,AI49=TRUE,AP49=TRUE)","v":false},{"$f":"AND(V49=TRUE,AC49=TRUE,AJ49=TRUE,AQ49=TRUE)","v":false},{"$f":"AND(W49=TRUE,AD49=TRUE,AK49=TRUE,AR49=TRUE)","v":false},{"$f":"AND(X49=TRUE,AE49=TRUE,AL49=TRUE,AS49=TRUE)","v":false},null,false,false,false,false,false,false,null,{"$f":"IFERROR(INDEX(BI49:BN49,MATCH(TRUE,TRANSPOSE(BB49:BG49),0)),\"\")","v":""}]
[{"$nulls":10},"POS TOL FIXED THD","N/A","N/A",0.098,0.005,0.115,0.048,null,{"$f":"AND(B2=1,B4=7)","v":false},{"$f":"AND(B2=1,B4=7)","v":false},{"$f":"AND(B2=1,B4=7)","v":false},{"$f":"AND(B2=1,B4=7)","v":false},{"$f":"AND(B2=1,B4=7)","v":false},{"$f":"AND(B2=1,B4=7)","v":false},null,{"$f":"IF(B3=1,TRUE,FALSE)","v":false},{"$f":"IF(B3=2,TRUE,FALSE)","v":false},{"$f":"IF(B3=1,TRUE,FALSE)","v":false},{"$f":"IF(B3=2,TRUE,FALSE)","v":false},{"$f":"IF(B3=1,TRUE,FALSE)","v":false},{"$f":"IF(B3=2,TRUE,FALSE)","v":false},null,{"$f":"IF(B5=1,TRUE,FALSE)","v":false},{"$f":"IF(B5=1,TRUE,FALSE)","v":false},{"$f":"IF(B5=2,TRUE,FALSE)","v":false},{"$f":"IF(B5=2,TRUE,FALSE)","v":false},{"$f":"IF(B5=3,TRUE,FALSE)","v":false},{"$f":"IF(B5=3,TRUE,FALSE)","v":false},null,{"$f":"IF(B6=2,TRUE,FALSE)","v":false},{"$f":"IF(B6=2,TRUE,FALSE)","v":false},{"$f":"IF(B6=2,TRUE,FALSE)","v":false},{"$f":"IF(B6=2,TRUE,FALSE)","v":false},{"$f":"IF(B6=2,TRUE,FALSE)","v":false},{"$f":"IF(B6=2,TRUE,FALSE)","v":false},{"$nulls":8},{"$f":"AND(S50=TRUE,Z50=TRUE,AG50=TRUE,AN50=TRUE)","v":false},false,false,false,false,false,null,false,false,false,false,false,false,null,{"$f":"IFERROR(INDEX(BI50:BN50,MATCH(TRUE,TRANSPOSE(BB50:BG50),0)),\"\")","v":""}]
[{"$nulls":10},"POS TOL FIXED CLR",0.004,0.1,0.067,0.116,0.034,0.123,null,{"$f":"AND(B2=1,B4=7)","v":false},{"$f":"AND(B2=1,B4=7)","v":false},{"$f":"AND(B2=1,B4=7)","v":false},{"$f":"AND(B2=1,B4=7)","v":false},{"$f":"AND(B2=1,B4=7)","v":false},{"$f":"AND(B2=1,B4=7)","v":false},null,{"$f":"IF(B3=1,TRUE,FALSE)","v":false},{"$f":"IF(B3=2,TRUE,FALSE)","v":false},{"$f":"IF(B3=1,TRUE,FALSE)","v":false},{"$f":"IF(B3=2,TRUE,FALSE)","v":false},{"$f":"IF(B3=1,TRUE,FALSE)","v":false},{"$f":"IF(B3=2,TRUE,FALSE)","v":false},null,{"$f":"IF(B5=1,TRUE,FALSE)","v":false},{"$f":"IF(B5=1,TRUE,FALSE)","v":false},{"$f":"IF(B5=2,TRUE,FALSE)","v":false},{"$f":"IF(B5=2,TRUE,FALSE)","v":false},{"$f":"IF(B5=3,TRUE,FALSE)","v":false},{"$f":"IF(B5=3,TRUE,FALSE)","v":false},null,{"$f":"IF(B6=3,TRUE,FALSE)","v":false},{"$f":"IF(B6=3,TRUE,FALSE)","v":false},{"$f":"IF(B6=3,TRUE,FALSE)","v":false},{"$f":"IF(B6=3,TRUE,FALSE)","v":false},{"$f":"IF(B6=3,TRUE,FALSE)","v":false},{"$f":"IF(B6=3,TRUE,FALSE)","v":false},{"$nulls":8},false,false,false,false,false,false,null,false,false,false,false,false,false,null,{"$f":"IFERROR(INDEX(BI51:BN51,MATCH(TRUE,TRANSPOSE(BB51:BG51),0)),\"\")","v":""}]
[{"$nulls":10},"C-SINK DIA @ 100 DEG",0.096,0.038,0.026,0.119,0.079,0.083,null,{"$f":"AND(B2=1,B4=7)","v":false},{"$f":"AND(B2=1,B4=7)","v":false},{"$f":"AND(B2=1,B4=7)","v":false},{"$f":"AND(B2=1,B4=7)","v":false},{"$f":"AND(B2=1,B4=7)","v":false},{"$f":"AND(B2=1,B4=7)","v":false},null,{"$f":"IF(B3=1,TRUE,FALSE)","v":false},{"$f":"IF(B3=2,TRUE,FALSE)","v":false},{"$f":"IF(B3=1,TRUE,FALSE)","v":false},{"$f":"IF(B3=2,TRUE,FALSE)","v":false},{"$f":"IF(B3=1,TRUE,FALSE)","v":false},{"$f":"IF(B3=2,TRUE,FALSE)","v":false},null,{"$f":"IF(B5=1,TRUE,FALSE)","v":false},{"$f":"IF(B5=1,TRUE,FALSE)","v":false},{"$f":"IF(B5=2,TRUE,FALSE)","v":false},{"$f":"IF(B5=2,TRUE,FALSE)","v":false},{"$f":"IF(B5=3,TRUE,FALSE)","v":false},{"$f":"IF(B5=3,TRUE,FALSE)","v":false},{"$nulls":8},{"$f":"IF(B7=2,TRUE,FALSE)","v":false},{"$f":"IF(B7=2,TRUE,FALSE)","v":false},{"$f":"IF(B7=2,TRUE,FALSE)","v":false},{"$f":"IF(B7=2,TRUE,FALSE)","v":false},{"$f":"IF(B7=2,TRUE,FALSE)","v":false},{"$f":"IF(B7=2,TRUE,FALSE)","v":false},null,{"$f":"AND(S52=TRUE,Z52=TRUE,AG52=TRUE,AU52=TRUE)","v":false},{"$f":"AND(T52=TRUE,AA52=TRUE,AH52=TRUE,AV52=TRUE)","v":false},{"$f":"AND(U52=TRUE,AB52=TRUE,AI52=TRUE,AW52=TRUE)","v":false},{"$f":"AND(V52=TRUE,AC52=TRUE,AJ52=TRUE,AX52=TRUE)","v":false},{"$f":"AND(W52=TRUE,AD52=TRUE,AK52=TRUE,AY52=TRUE)","v":false},{"$f":"AND(X52=TRUE,AE52=TRUE,AL52=TRUE,AZ52=TRUE)","v":false},null,false,false,false,false,false,false,null,{"$f":"IFERROR(INDEX(BI52:BN52,MATCH(TRUE,TRANSPOSE(BB52:BG52),0)),\"\")","v":""}]
[]
[{"$nulls":8},"Table 2"]
[{"$nulls":8},"NominalScrewVarValue","RIVET DIAMETER","HOLE MAX","HOLE MIN","POS TOL","CSK DIA 120","CSK DIA 100 max",{"$nulls":3},"Table 11","Check nominalScrew value, also check for csk"]
[{"$nulls":8},8,"3/32",".100",".097",".011",".204",".176",{"$nulls":3},{"$f":"AND(B2=2,B4=8)","v":false},{"$f":"AND(B2=2,B4=8)","v":false},{"$f":"AND(B2=2,B4=8)","v":false},{"$f":"AND(B2=2,B4=8,B7=3)","v":false},{"$f":"AND(B2=2,B4=8,B7=2)","v":false},null,{"$f":"IF(S56=TRUE,K56,\"\")","v":""},{"$f":"IF(T56=TRUE,L56,\"\")","v":""},"","",""]
[{"$nulls":8},9,"1/8",".133",".129",".011",".250",".228",{"$nulls":3},{"$f":"AND(B2=2,B4=9)","v":false},{"$f":"AND(B2=2,B4=9)","v":false},{"$f":"AND(B2=2,B4=9)","v":false},{"$f":"AND(B2=2,B4=9,B7=3)","v":false},{"$f":"AND(B2=2,B4=9,B7=2)","v":false},null,{"$f":"IF(S57=TRUE,K57,\"\")","v":""},{"$f":"IF(T57=TRUE,L57,\"\")","v":""},{"$f":"IF(U57=TRUE,M57,\"\")","v":""},{"$f":"IF(V57=TRUE,N57,\"\")","v":""},{"$f":"IF(W57=TRUE,O57,\"\")","v":""}]
[{"$nulls":8},10,"5/32",".164",".160",".011",".313",".289",{"$nulls":3},{"$f":"AND(B2=2,B4=10)","v":false},{"$f":"AND(B2=2,B4=10)","v":false},{"$f":"AND(B2=2,B4=10)","v":false},{"$f":"AND(B2=2,B4=10,B7=3)","v":false},{"$f":"AND(B2=2,B4=10,B7=2)","v":false},null,"","","","",""]
[{"$nulls":8},11,"3/16",".196",".192",".011",".380",".357",{"$nulls":3},{"$f":"AND(B2=2,B4=11)","v":false},{"$f":"AND(B2=2,B4=11)","v":false},{"$f":"AND(B2=2,B4=11)","v":false},{"$f":"AND(B2=2,B4=11,B7=3)","v":false},{"$f":"AND(B2=2,B4=11,B7=2)","v":false},null,"","","","",""]
[{"$nulls":8},12,"1/4",".261",".257",".012",".474",".480",{"$nulls":3},{"$f":"AND(B2=2,B4=12)","v":false},{"$f":"AND(B2=2,B4=12)","v":false},{"$f":"AND(B2=2,B4=12)","v":false},{"$f":"AND(B2=2,B4=12,B7=3)","v":false},{"$f":"AND(B2=2,B4=12,B7=2)","v":false},null,"","","","",""]
[]
[{"$nulls":8},"Table 3"]
[{"$nulls":8},"NominalScrewVarValue","RIVET DIAMETER","HOLE MAX","HOLE MIN","POS TOL","CSK DIA 120","CSK DIA 100 max","CSK DIA 100 min","CSK model to dia",null,"Table 12","Check nominalScrew value"]
[{"$nulls":8},8,"3/32",".100",".097",".011","N/A",".148",".141",".145",null,{"$f":"AND(B2=3,B4=13)","v":false},{"$f":"AND(B2=3,B4=13)","v":false},{"$f":"AND(B2=3,B4=13)","v":false},{"$f":"AND(B2=3,B4=13,B7=3)","v":false},{"$f":"AND(B2=3,B4=13,B7=2)","v":false},{"$f":"AND(B2=3,B4=13,B7=2)","v":false},{"$f":"AND(B2=3,B4=13,B7=2)","v":false},null,{"$f":"IF(S64=TRUE,K64,\"\")","v":""},{"$f":"IF(T64=TRUE,L64,\"\")","v":""},"","","","",""]
[{"$nulls":8},9,"1/8",".133",".129",".011","N/A",".196",".188",".192",null,{"$f":"AND(B2=3,B4=14)","v":false},{"$f":"AND(B2=3,B4=14)","v":false},{"$f":"AND(B2=3,B4=14)","v":false},{"$f":"AND(B2=3,B4=14,B7=3)","v":false},{"$f":"AND(B2=3,B4=14,B7=2)","v":false},{"$f":"AND(B2=3,B4=14,B7=2)","v":false},{"$f":"AND(B2=3,B4=14,B7=2)","v":false},null,{"$f":"IF(S65=TRUE,K65,\"\")","v":""},{"$f":"IF(T65=TRUE,L65,\"\")","v":""},{"$f":"IF(U65=TRUE,M65,\"\")","v":""},{"$f":"IF(V65=TRUE,N65,\"\")","v":""},{"$f":"IF(W65=TRUE,O65,\"\")","v":""},{"$f":"IF(X65=TRUE,P65,\"\")","v":""},{"$f":"IF(Y65=TRUE,Q65,\"\")","v":""}]
[{"$nulls":8},10,"5/32",".164",".160",".011","N/A",".247",".240",".244",null,{"$f":"AND(B2=3,B4=15)","v":false},{"$f":"AND(B2=3,B4=15)","v":false},{"$f":"AND(B2=3,B4=15)","v":false},{"$f":"AND(B2=3,B4=15,B7=3)","v":false},{"$f":"AND(B2=3,B4=15,B7=2)","v":false},{"$f":"AND(B2=3,B4=15,B7=2)","v":false},{"$f":"AND(B2=3,B4=15,B7=2)","v":false},null,"","","","","","",""]
[{"$nulls":8},11,"3/16",".196",".192",".011","N/A",".302",".297",".300",null,{"$f":"AND(B2=3,B4=16)","v":false},{"$f":"AND(B2=3,B4=16)","v":false},{"$f":"AND(B2=3,B4=16)","v":false},{"$f":"AND(B2=3,B4=16,B7=3)","v":false},{"$f":"AND(B2=3,B4=16,B7=2)","v":false},{"$f":"AND(B2=3,B4=16,B7=2)","v":false},{"$f":"AND(B2=3,B4=16,B7=2)","v":false},null,"","","","","","",""]
[{"$nulls":8},12,"1/4",".261",".257",".012","N/A",".395",".390",".393",null,{"$f":"AND(B2=3,B4=17)","v":false},{"$f":"AND(B2=3,B4=17)","v":false},{"$f":"AND(B2=3,B4=17)","v":false},{"$f":"AND(B2=3,B4=17,B7=3)","v":false},{"$f":"AND(B2=3,B4=17,B7=2)","v":false},{"$f":"AND(B2=3,B4=17,B7=2)","v":false},{"$f":"AND(B2=3,B4=17,B7=2)","v":false},null,"","","","","","",""]

{"sheet":"about","index":2,"n_rows":14,"n_cols":3,"rows_kept":14}
["Hole Sizing Guide Demo Version"]
["Created by George Austria"]
[]
["Version History",null,"Known Issues / Planned Improvements"]
["v1-1, 11-29-2023",null,"Odd behavior in conditional formatting for pink cells, often requires extra click somewhere for conditional formatting to update fully."]
["Error corrected, 5/16 screw Sheet metal Tight Fit Floating .016 -> .014",null,"Buttons may not work on certain monitors when using multiple monitors (this seems to be a known issue with ActiveX buttons not working on different resolution screens)"]
["Changed Sheet1 G6 Text Control to \"Srink to Fit\", as 0.022+.01 was not displaying legibly",null,"Dark Mode"]
[null,null,"Accessibility Improvements (higher contrast theme, alt text on buttons)"]
["v1-0, 11-27-2023",null,"Issue with some users with buttons appearing glitch out when interacted with."]
[null,null,"Add counterbore support"]
["v0-5, 11-22-2023",null,"Add \"Model to diameter\" output, with options to see results according to the standard and according to NX hole command presets."]
["Added information message for sheet metal + threaded hole scenario",null,"Add hole depth support"]
[null,null,"More descriptive information messages when countersink data is unavailable"]
[null,null,"Add \"table view\" feature, where the outputs are displayed by highlighting the results on a table. "]